BEGIN:VCALENDAR
VERSION:2.0
PRODID:-//AusschreibungsRadar//Timeline//DE
CALSCALE:GREGORIAN
METHOD:PUBLISH
X-WR-CALNAME:Projekt POM / Kommunaler Wohnungsbau mit Tiefgarage in Eching - VE10
X-WR-TIMEZONE:Europe/Berlin
BEGIN:VEVENT
UID:d11a127fcddde42d@ausschreibungsradar.com
DTSTAMP:20260423T232401Z
DTSTART;VALUE=DATE:20260127
DTEND;VALUE=DATE:20260127
SUMMARY:Angebotsfrist — POM / Kommunaler Wohnungsbau mit Tiefgarage in Eching - VE10
DESCRIPTION:Phase: Ausschreibung | Beschreibung: Angebote werden eingeholt | Link: https://ausschreibungsradar.com/ausschreibung/d6fcdecc-e893-494f-a041-0b728b30b057/
URL:https://ausschreibungsradar.com/ausschreibung/d6fcdecc-e893-494f-a041-0b728b30b057/
END:VEVENT
BEGIN:VEVENT
UID:9dcebebfa3c3a1f0@ausschreibungsradar.com
DTSTAMP:20260423T232401Z
DTSTART;VALUE=DATE:20251211
DTEND;VALUE=DATE:20251211
SUMMARY:Ausschreibung — POM / Kommunaler Wohnungsbau mit Tiefgarage in Eching - VE10
DESCRIPTION:Phase: Ausschreibung | Beschreibung: Offizielle Ausschreibung mit Bieterfrist. | Link: https://ausschreibungsradar.com/ausschreibung/369c06dc-1454-48fe-bf26-8136412d15c5/
URL:https://ausschreibungsradar.com/ausschreibung/369c06dc-1454-48fe-bf26-8136412d15c5/
END:VEVENT
BEGIN:VEVENT
UID:259c804b13389ca9@ausschreibungsradar.com
DTSTAMP:20260423T232401Z
DTSTART;VALUE=DATE:20251211
DTEND;VALUE=DATE:20251211
SUMMARY:Ausschreibung — POM / Kommunaler Wohnungsbau mit Tiefgarage in Eching - VE10
DESCRIPTION:Phase: Ausschreibung | Beschreibung: Offizielle Ausschreibung mit Bieterfrist. | Link: https://ausschreibungsradar.com/ausschreibung/e62f55b2-f905-49bb-909f-31fccf246b14/
URL:https://ausschreibungsradar.com/ausschreibung/e62f55b2-f905-49bb-909f-31fccf246b14/
END:VEVENT
BEGIN:VEVENT
UID:1a90505ca2cdb11b@ausschreibungsradar.com
DTSTAMP:20260423T232401Z
DTSTART;VALUE=DATE:20251211
DTEND;VALUE=DATE:20251211
SUMMARY:Ausschreibung — POM / Kommunaler Wohnungsbau mit Tiefgarage in Eching - VE10
DESCRIPTION:Phase: Ausschreibung | Beschreibung: Offizielle Ausschreibung mit Bieterfrist. | Link: https://ausschreibungsradar.com/ausschreibung/5fa1ca89-307f-41a2-adc9-6f36a0b6163d/
URL:https://ausschreibungsradar.com/ausschreibung/5fa1ca89-307f-41a2-adc9-6f36a0b6163d/
END:VEVENT
BEGIN:VEVENT
UID:695e6983ef6bb685@ausschreibungsradar.com
DTSTAMP:20260423T232401Z
DTSTART;VALUE=DATE:20251211
DTEND;VALUE=DATE:20251211
SUMMARY:Ausschreibung — POM / Kommunaler Wohnungsbau mit Tiefgarage in Eching - VE10
DESCRIPTION:Phase: Ausschreibung | Beschreibung: Offizielle Ausschreibung mit Bieterfrist. | Link: https://ausschreibungsradar.com/ausschreibung/a9cedb02-4b09-4a57-948e-bee3caa486c2/
URL:https://ausschreibungsradar.com/ausschreibung/a9cedb02-4b09-4a57-948e-bee3caa486c2/
END:VEVENT
BEGIN:VEVENT
UID:3eede3323e637e30@ausschreibungsradar.com
DTSTAMP:20260423T232401Z
DTSTART;VALUE=DATE:20260330
DTEND;VALUE=DATE:20260330
SUMMARY:Vergabeergebnis — POM / Kommunaler Wohnungsbau mit Tiefgarage in Eching - VE10
DESCRIPTION:Phase: Vergabeergebnis | Beschreibung: Auftrag wurde zugeschlagen | Link: https://ausschreibungsradar.com/ausschreibung/49de3df8-5698-4082-8138-5fbbad9a49d4/
URL:https://ausschreibungsradar.com/ausschreibung/49de3df8-5698-4082-8138-5fbbad9a49d4/
END:VEVENT
END:VCALENDAR
