BEGIN:VCALENDAR
VERSION:2.0
PRODID:-//AusschreibungsRadar//Timeline//DE
CALSCALE:GREGORIAN
METHOD:PUBLISH
X-WR-CALNAME:Projekt Unterhaltspflege im Bereich Schlossgraben sowie den Hochbeet
X-WR-TIMEZONE:Europe/Berlin
BEGIN:VEVENT
UID:8cd4da6ddd6b9bed@ausschreibungsradar.com
DTSTAMP:20260425T115256Z
DTSTART;VALUE=DATE:20241017
DTEND;VALUE=DATE:20241017
SUMMARY:Angebotsfrist — Unterhaltspflege im Bereich Schlossgraben sowie den Hochbeet
DESCRIPTION:Phase: Ausschreibung | Beschreibung: Angebote werden eingeholt | Link: https://ausschreibungsradar.com/ausschreibung/32d73912-0dea-4cda-9b67-02a579dd9cd5/
URL:https://ausschreibungsradar.com/ausschreibung/32d73912-0dea-4cda-9b67-02a579dd9cd5/
END:VEVENT
BEGIN:VEVENT
UID:3fbe5cdb0b283291@ausschreibungsradar.com
DTSTAMP:20260425T115256Z
DTSTART;VALUE=DATE:20241106
DTEND;VALUE=DATE:20241106
SUMMARY:Vergabeergebnis — Unterhaltspflege im Bereich Schlossgraben sowie den Hochbeet
DESCRIPTION:Phase: Vergabeergebnis | Beschreibung: Bedarf hat sich geändert | Link: https://ausschreibungsradar.com/ausschreibung/d6fe4d79-bfc5-4ce7-8622-64857b72b118/
URL:https://ausschreibungsradar.com/ausschreibung/d6fe4d79-bfc5-4ce7-8622-64857b72b118/
END:VEVENT
BEGIN:VEVENT
UID:889af1c4f628e529@ausschreibungsradar.com
DTSTAMP:20260425T115256Z
DTSTART;VALUE=DATE:20241115
DTEND;VALUE=DATE:20241115
SUMMARY:Ausschreibung — Unterhaltspflege im Bereich Schlossgraben sowie den Hochbeet
DESCRIPTION:Phase: Ausschreibung | Beschreibung: Offizielle Ausschreibung mit Bieterfrist. | Link: https://ausschreibungsradar.com/ausschreibung/daf82391-76b1-427f-9522-6e1ad5ce455e/
URL:https://ausschreibungsradar.com/ausschreibung/daf82391-76b1-427f-9522-6e1ad5ce455e/
END:VEVENT
END:VCALENDAR
