BEGIN:VCALENDAR
VERSION:2.0
PRODID:-//AusschreibungsRadar//Timeline//DE
CALSCALE:GREGORIAN
METHOD:PUBLISH
X-WR-CALNAME:Projekt AE - Teilneubau der Grundschule Groß Berkel - Tischlerarbeit
X-WR-TIMEZONE:Europe/Berlin
BEGIN:VEVENT
UID:92ec40b88e7410e8@ausschreibungsradar.com
DTSTAMP:20260425T234857Z
DTSTART;VALUE=DATE:20251028
DTEND;VALUE=DATE:20251028
SUMMARY:Angebotsfrist — AE - Teilneubau der Grundschule Groß Berkel - Tischlerarbeit
DESCRIPTION:Phase: Ausschreibung | Beschreibung: Angebote werden eingeholt | Link: https://ausschreibungsradar.com/ausschreibung/d764e823-8225-4e36-9419-2bb11ad500e3/
URL:https://ausschreibungsradar.com/ausschreibung/d764e823-8225-4e36-9419-2bb11ad500e3/
END:VEVENT
BEGIN:VEVENT
UID:3afb37440c998397@ausschreibungsradar.com
DTSTAMP:20260425T234857Z
DTSTART;VALUE=DATE:20251017
DTEND;VALUE=DATE:20251017
SUMMARY:Zuschlag — AE - Teilneubau der Grundschule Groß Berkel - Tischlerarbeit
DESCRIPTION:Phase: Zuschlag | Beschreibung: Vergabeergebnis — Auftrag wurde erteilt oder Verfahren beendet. | Link: https://ausschreibungsradar.com/ausschreibung/0c64f454-01b3-499c-a3c3-c2faa337ee7c/
URL:https://ausschreibungsradar.com/ausschreibung/0c64f454-01b3-499c-a3c3-c2faa337ee7c/
END:VEVENT
BEGIN:VEVENT
UID:d8bc274f41da59a9@ausschreibungsradar.com
DTSTAMP:20260425T234857Z
DTSTART;VALUE=DATE:20251024
DTEND;VALUE=DATE:20251024
SUMMARY:Ausschreibung — AE - Teilneubau der Grundschule Groß Berkel - Tischlerarbeit
DESCRIPTION:Phase: Ausschreibung | Beschreibung: Offizielle Ausschreibung mit Bieterfrist. | Link: https://ausschreibungsradar.com/ausschreibung/1d50b694-65ee-45e5-b36a-1aaa7d91dcab/
URL:https://ausschreibungsradar.com/ausschreibung/1d50b694-65ee-45e5-b36a-1aaa7d91dcab/
END:VEVENT
BEGIN:VEVENT
UID:49b05462b10aebc2@ausschreibungsradar.com
DTSTAMP:20260425T234857Z
DTSTART;VALUE=DATE:20251126
DTEND;VALUE=DATE:20251126
SUMMARY:Vergabeergebnis — AE - Teilneubau der Grundschule Groß Berkel - Tischlerarbeit
DESCRIPTION:Phase: Vergabeergebnis | Beschreibung: Auftrag wurde zugeschlagen | Link: https://ausschreibungsradar.com/ausschreibung/db980b39-7ff5-4109-a79d-9697122b4fdc/
URL:https://ausschreibungsradar.com/ausschreibung/db980b39-7ff5-4109-a79d-9697122b4fdc/
END:VEVENT
END:VCALENDAR
