BEGIN:VCALENDAR
VERSION:2.0
PRODID:-//AusschreibungsRadar//Timeline//DE
CALSCALE:GREGORIAN
METHOD:PUBLISH
X-WR-CALNAME:Projekt Erweiterung Grundschule Großschwarzenlohe - Trockenbauarbeit
X-WR-TIMEZONE:Europe/Berlin
BEGIN:VEVENT
UID:4a2fe81c2a453899@ausschreibungsradar.com
DTSTAMP:20260424T082048Z
DTSTART;VALUE=DATE:20250312
DTEND;VALUE=DATE:20250312
SUMMARY:Angebotsfrist — Erweiterung Grundschule Großschwarzenlohe - Trockenbauarbeit
DESCRIPTION:Phase: Ausschreibung | Beschreibung: Angebote werden eingeholt | Link: https://ausschreibungsradar.com/ausschreibung/adb94f51-7b2f-4870-b147-900f0d8480c6/ | Geschätzter Wert: 264000 €
URL:https://ausschreibungsradar.com/ausschreibung/adb94f51-7b2f-4870-b147-900f0d8480c6/
END:VEVENT
BEGIN:VEVENT
UID:515a16888442ec8f@ausschreibungsradar.com
DTSTAMP:20260424T082048Z
DTSTART;VALUE=DATE:20250423
DTEND;VALUE=DATE:20250423
SUMMARY:Vergabeergebnis — Erweiterung Grundschule Großschwarzenlohe - Trockenbauarbeit
DESCRIPTION:Phase: Vergabeergebnis | Beschreibung: Auftrag wurde zugeschlagen | Link: https://ausschreibungsradar.com/ausschreibung/d799223d-24c0-4814-8e69-3852a2ff05eb/
URL:https://ausschreibungsradar.com/ausschreibung/d799223d-24c0-4814-8e69-3852a2ff05eb/
END:VEVENT
BEGIN:VEVENT
UID:540d82ca543a81c8@ausschreibungsradar.com
DTSTAMP:20260424T082048Z
DTSTART;VALUE=DATE:20250429
DTEND;VALUE=DATE:20250429
SUMMARY:Ausschreibung — Erweiterung Grundschule Großschwarzenlohe - Trockenbauarbeit
DESCRIPTION:Phase: Ausschreibung | Beschreibung: Offizielle Ausschreibung mit Bieterfrist. | Link: https://ausschreibungsradar.com/ausschreibung/d18367c5-a12f-4b92-80da-52969ece73c0/
URL:https://ausschreibungsradar.com/ausschreibung/d18367c5-a12f-4b92-80da-52969ece73c0/
END:VEVENT
BEGIN:VEVENT
UID:af6795848becff59@ausschreibungsradar.com
DTSTAMP:20260424T082048Z
DTSTART;VALUE=DATE:20250429
DTEND;VALUE=DATE:20250429
SUMMARY:Ausschreibung — Erweiterung Grundschule Großschwarzenlohe - Trockenbauarbeit
DESCRIPTION:Phase: Ausschreibung | Beschreibung: Offizielle Ausschreibung mit Bieterfrist. | Link: https://ausschreibungsradar.com/ausschreibung/3b878cd5-80aa-41e9-b507-e0f870b8c689/
URL:https://ausschreibungsradar.com/ausschreibung/3b878cd5-80aa-41e9-b507-e0f870b8c689/
END:VEVENT
BEGIN:VEVENT
UID:ea5aa3e1a30e5ca6@ausschreibungsradar.com
DTSTAMP:20260424T082048Z
DTSTART;VALUE=DATE:20250513
DTEND;VALUE=DATE:20250513
SUMMARY:Ausschreibung — Erweiterung Grundschule Großschwarzenlohe - Trockenbauarbeit
DESCRIPTION:Phase: Ausschreibung | Beschreibung: Offizielle Ausschreibung mit Bieterfrist. | Link: https://ausschreibungsradar.com/ausschreibung/8ab2582d-e100-410b-a7bb-5275985802f9/
URL:https://ausschreibungsradar.com/ausschreibung/8ab2582d-e100-410b-a7bb-5275985802f9/
END:VEVENT
BEGIN:VEVENT
UID:674ac824922e0077@ausschreibungsradar.com
DTSTAMP:20260424T082048Z
DTSTART;VALUE=DATE:20250513
DTEND;VALUE=DATE:20250513
SUMMARY:Ausschreibung — Erweiterung Grundschule Großschwarzenlohe - Trockenbauarbeit
DESCRIPTION:Phase: Ausschreibung | Beschreibung: Offizielle Ausschreibung mit Bieterfrist. | Link: https://ausschreibungsradar.com/ausschreibung/b5e70c95-ef03-4433-8503-1abd4aac52f7/
URL:https://ausschreibungsradar.com/ausschreibung/b5e70c95-ef03-4433-8503-1abd4aac52f7/
END:VEVENT
END:VCALENDAR
