BEGIN:VCALENDAR
VERSION:2.0
PRODID:-//AusschreibungsRadar//Timeline//DE
CALSCALE:GREGORIAN
METHOD:PUBLISH
X-WR-CALNAME:Projekt 2025-0369, Fliesenarbeiten, Energetische Sanierung Werner-He
X-WR-TIMEZONE:Europe/Berlin
BEGIN:VEVENT
UID:0eb06d5cf1e5881b@ausschreibungsradar.com
DTSTAMP:20260424T173506Z
DTSTART;VALUE=DATE:20260119
DTEND;VALUE=DATE:20260119
SUMMARY:Angebotsfrist — 2025-0369\, Fliesenarbeiten\, Energetische Sanierung Werner-He
DESCRIPTION:Phase: Ausschreibung | Beschreibung: Angebote werden eingeholt | Link: https://ausschreibungsradar.com/ausschreibung/7ad0e710-b9bd-4210-bf52-9fb53fee542b/
URL:https://ausschreibungsradar.com/ausschreibung/7ad0e710-b9bd-4210-bf52-9fb53fee542b/
END:VEVENT
BEGIN:VEVENT
UID:95501185e6c3e5a7@ausschreibungsradar.com
DTSTAMP:20260424T173506Z
DTSTART;VALUE=DATE:20260420
DTEND;VALUE=DATE:20260420
SUMMARY:Vergabeergebnis — 2025-0369\, Fliesenarbeiten\, Energetische Sanierung Werner-He
DESCRIPTION:Phase: Vergabeergebnis | Beschreibung: Auftrag wurde zugeschlagen | Link: https://ausschreibungsradar.com/ausschreibung/d7d56c97-affa-429e-91f9-1bedf3a529c9/
URL:https://ausschreibungsradar.com/ausschreibung/d7d56c97-affa-429e-91f9-1bedf3a529c9/
END:VEVENT
END:VCALENDAR
