BEGIN:VCALENDAR
VERSION:2.0
PRODID:-//AusschreibungsRadar//Timeline//DE
CALSCALE:GREGORIAN
METHOD:PUBLISH
X-WR-CALNAME:Projekt PKW Full-Service Leasing mit anschließender Kaufoption
X-WR-TIMEZONE:Europe/Berlin
BEGIN:VEVENT
UID:1865c9368f3d09f2@ausschreibungsradar.com
DTSTAMP:20260424T094701Z
DTSTART;VALUE=DATE:20240617
DTEND;VALUE=DATE:20240617
SUMMARY:Angebotsfrist — PKW Full-Service Leasing mit anschließender Kaufoption
DESCRIPTION:Phase: Ausschreibung | Beschreibung: Angebote werden eingeholt | Link: https://ausschreibungsradar.com/ausschreibung/d7ec74ed-ddd9-415f-9be0-4ea1f72bcdbd/ | Geschätzter Wert: 240000 €
URL:https://ausschreibungsradar.com/ausschreibung/d7ec74ed-ddd9-415f-9be0-4ea1f72bcdbd/
END:VEVENT
BEGIN:VEVENT
UID:2dfaa67748320e5a@ausschreibungsradar.com
DTSTAMP:20260424T094701Z
DTSTART;VALUE=DATE:20240426
DTEND;VALUE=DATE:20240426
SUMMARY:Ausschreibung — PKW Full-Service Leasing mit anschließender Kaufoption
DESCRIPTION:Phase: Ausschreibung | Beschreibung: Offizielle Ausschreibung mit Bieterfrist. | Link: https://ausschreibungsradar.com/ausschreibung/c81d8fc0-1a0e-475e-979d-abf849336e25/
URL:https://ausschreibungsradar.com/ausschreibung/c81d8fc0-1a0e-475e-979d-abf849336e25/
END:VEVENT
END:VCALENDAR
