BEGIN:VCALENDAR
VERSION:2.0
PRODID:-//AusschreibungsRadar//Timeline//DE
CALSCALE:GREGORIAN
METHOD:PUBLISH
X-WR-CALNAME:Projekt Fliesen -2025Blühwiese - Errichtung einer Kindertagesstätte
X-WR-TIMEZONE:Europe/Berlin
BEGIN:VEVENT
UID:44609a00cf3130ab@ausschreibungsradar.com
DTSTAMP:20260425T142757Z
DTSTART;VALUE=DATE:20250707
DTEND;VALUE=DATE:20250707
SUMMARY:Ausschreibung — Fliesen -2025Blühwiese - Errichtung einer Kindertagesstätte
DESCRIPTION:Phase: Ausschreibung | Beschreibung: Offizielle Ausschreibung mit Bieterfrist. | Link: https://ausschreibungsradar.com/ausschreibung/705ca322-8ede-48fd-8698-fae1ce74975c/
URL:https://ausschreibungsradar.com/ausschreibung/705ca322-8ede-48fd-8698-fae1ce74975c/
END:VEVENT
BEGIN:VEVENT
UID:06b704830d7e2dda@ausschreibungsradar.com
DTSTAMP:20260425T142757Z
DTSTART;VALUE=DATE:20250814
DTEND;VALUE=DATE:20250814
SUMMARY:Angebotsfrist — Fliesen -2025Blühwiese - Errichtung einer Kindertagesstätte
DESCRIPTION:Phase: Ausschreibung | Beschreibung: Angebote werden eingeholt | Link: https://ausschreibungsradar.com/ausschreibung/d8a8522d-5a28-441b-8ea2-6490308a7a3d/ | Geschätzter Wert: 80318 €
URL:https://ausschreibungsradar.com/ausschreibung/d8a8522d-5a28-441b-8ea2-6490308a7a3d/
END:VEVENT
BEGIN:VEVENT
UID:e93b0df561824a53@ausschreibungsradar.com
DTSTAMP:20260425T142757Z
DTSTART;VALUE=DATE:20251009
DTEND;VALUE=DATE:20251009
SUMMARY:Vergabeergebnis — Fliesen -2025Blühwiese - Errichtung einer Kindertagesstätte
DESCRIPTION:Phase: Vergabeergebnis | Beschreibung: Auftrag wurde zugeschlagen | Link: https://ausschreibungsradar.com/ausschreibung/15466e41-ded2-4a72-b155-da2302916596/ | Auftragnehmer: Becker & Partner Baugesel
URL:https://ausschreibungsradar.com/ausschreibung/15466e41-ded2-4a72-b155-da2302916596/
END:VEVENT
END:VCALENDAR
