BEGIN:VCALENDAR
VERSION:2.0
PRODID:-//AusschreibungsRadar//Timeline//DE
CALSCALE:GREGORIAN
METHOD:PUBLISH
X-WR-CALNAME:Projekt Sanierung der Kindertagesstätte Arche Noah in Hösbach - Trag
X-WR-TIMEZONE:Europe/Berlin
BEGIN:VEVENT
UID:74cf9862b1f210c7@ausschreibungsradar.com
DTSTAMP:20260425T213438Z
DTSTART;VALUE=DATE:20240205
DTEND;VALUE=DATE:20240205
SUMMARY:Ausschreibung — Sanierung der Kindertagesstätte Arche Noah in Hösbach - Trag
DESCRIPTION:Phase: Ausschreibung | Beschreibung: Angebote werden eingeholt | Link: https://ausschreibungsradar.com/ausschreibung/5fd8028a-3d5b-4170-9148-1e06c93a712c/
URL:https://ausschreibungsradar.com/ausschreibung/5fd8028a-3d5b-4170-9148-1e06c93a712c/
END:VEVENT
BEGIN:VEVENT
UID:e8ab95cbcd999fdb@ausschreibungsradar.com
DTSTAMP:20260425T213438Z
DTSTART;VALUE=DATE:20241031
DTEND;VALUE=DATE:20241031
SUMMARY:Vergabeergebnis — Sanierung der Kindertagesstätte Arche Noah in Hösbach - Trag
DESCRIPTION:Phase: Vergabeergebnis | Beschreibung: Auftrag wurde zugeschlagen | Link: https://ausschreibungsradar.com/ausschreibung/d8bb82e2-1f0b-4c5b-a47d-bdf264af3e9c/
URL:https://ausschreibungsradar.com/ausschreibung/d8bb82e2-1f0b-4c5b-a47d-bdf264af3e9c/
END:VEVENT
BEGIN:VEVENT
UID:238d114eba1b41b9@ausschreibungsradar.com
DTSTAMP:20260425T213438Z
DTSTART;VALUE=DATE:20241031
DTEND;VALUE=DATE:20241031
SUMMARY:Zuschlag — Sanierung der Kindertagesstätte Arche Noah in Hösbach - Trag
DESCRIPTION:Phase: Zuschlag | Beschreibung: Vergabeergebnis — Auftrag wurde erteilt oder Verfahren beendet. | Link: https://ausschreibungsradar.com/ausschreibung/3d81d4f3-99ca-4e36-9d96-dc975256f499/
URL:https://ausschreibungsradar.com/ausschreibung/3d81d4f3-99ca-4e36-9d96-dc975256f499/
END:VEVENT
END:VCALENDAR
