BEGIN:VCALENDAR
VERSION:2.0
PRODID:-//AusschreibungsRadar//Timeline//DE
CALSCALE:GREGORIAN
METHOD:PUBLISH
X-WR-CALNAME:Projekt Mutter-Kind-Zentrum Auf der Bult, Hannover - Gebäudereinigun
X-WR-TIMEZONE:Europe/Berlin
BEGIN:VEVENT
UID:90ddf57a63675c4f@ausschreibungsradar.com
DTSTAMP:20260425T173229Z
DTSTART;VALUE=DATE:20240116
DTEND;VALUE=DATE:20240116
SUMMARY:Angebotsfrist — Mutter-Kind-Zentrum Auf der Bult\, Hannover - Gebäudereinigun
DESCRIPTION:Phase: Ausschreibung | Beschreibung: Angebote werden eingeholt | Link: https://ausschreibungsradar.com/ausschreibung/d8e4a376-3d92-42fc-bdd7-ae655061d4e1/ | Geschätzter Wert: 11700 €
URL:https://ausschreibungsradar.com/ausschreibung/d8e4a376-3d92-42fc-bdd7-ae655061d4e1/
END:VEVENT
BEGIN:VEVENT
UID:3b2a24b2155b5d76@ausschreibungsradar.com
DTSTAMP:20260425T173229Z
DTSTART;VALUE=DATE:20231212
DTEND;VALUE=DATE:20231212
SUMMARY:Ausschreibung — Mutter-Kind-Zentrum Auf der Bult\, Hannover - Gebäudereinigun
DESCRIPTION:Phase: Ausschreibung | Beschreibung: Offizielle Ausschreibung mit Bieterfrist. | Link: https://ausschreibungsradar.com/ausschreibung/77187c1e-c1af-45db-83dc-8a371343645c/
URL:https://ausschreibungsradar.com/ausschreibung/77187c1e-c1af-45db-83dc-8a371343645c/
END:VEVENT
BEGIN:VEVENT
UID:2bd59e3965b123a8@ausschreibungsradar.com
DTSTAMP:20260425T173229Z
DTSTART;VALUE=DATE:20231213
DTEND;VALUE=DATE:20231213
SUMMARY:Ausschreibung — Mutter-Kind-Zentrum Auf der Bult\, Hannover - Gebäudereinigun
DESCRIPTION:Phase: Ausschreibung | Beschreibung: Offizielle Ausschreibung mit Bieterfrist. | Link: https://ausschreibungsradar.com/ausschreibung/ted-755370-2023/
URL:https://ausschreibungsradar.com/ausschreibung/ted-755370-2023/
END:VEVENT
BEGIN:VEVENT
UID:2c244789846350a1@ausschreibungsradar.com
DTSTAMP:20260425T173229Z
DTSTART;VALUE=DATE:20231213
DTEND;VALUE=DATE:20231213
SUMMARY:Zuschlag — Mutter-Kind-Zentrum Auf der Bult\, Hannover - Gebäudereinigun
DESCRIPTION:Phase: Zuschlag | Beschreibung: Vergabeergebnis — Auftrag wurde erteilt oder Verfahren beendet. | Link: https://ausschreibungsradar.com/ausschreibung/58eb61c2-553a-44aa-a1ec-eb6518a95314/
URL:https://ausschreibungsradar.com/ausschreibung/58eb61c2-553a-44aa-a1ec-eb6518a95314/
END:VEVENT
BEGIN:VEVENT
UID:557370c1db4e77d8@ausschreibungsradar.com
DTSTAMP:20260425T173229Z
DTSTART;VALUE=DATE:20240319
DTEND;VALUE=DATE:20240319
SUMMARY:Vergabeergebnis — Mutter-Kind-Zentrum Auf der Bult\, Hannover - Gebäudereinigun
DESCRIPTION:Phase: Vergabeergebnis | Beschreibung: Auftrag wurde zugeschlagen | Link: https://ausschreibungsradar.com/ausschreibung/5b021c20-783d-4968-bd6d-850a08822b61/ | Geschätzter Wert: 11700 €
URL:https://ausschreibungsradar.com/ausschreibung/5b021c20-783d-4968-bd6d-850a08822b61/
END:VEVENT
END:VCALENDAR
