BEGIN:VCALENDAR
VERSION:2.0
PRODID:-//AusschreibungsRadar//Timeline//DE
CALSCALE:GREGORIAN
METHOD:PUBLISH
X-WR-CALNAME:Projekt Trockenbau Decken
X-WR-TIMEZONE:Europe/Berlin
BEGIN:VEVENT
UID:d4fd4bd650a15cb0@ausschreibungsradar.com
DTSTAMP:20260425T134912Z
DTSTART;VALUE=DATE:20250122
DTEND;VALUE=DATE:20250122
SUMMARY:Ausschreibung — Trockenbau Decken
DESCRIPTION:Phase: Ausschreibung | Beschreibung: Offizielle Ausschreibung mit Bieterfrist. | Link: https://ausschreibungsradar.com/ausschreibung/23300046/
URL:https://ausschreibungsradar.com/ausschreibung/23300046/
END:VEVENT
BEGIN:VEVENT
UID:bd24fdc072d28408@ausschreibungsradar.com
DTSTAMP:20260425T134912Z
DTSTART;VALUE=DATE:20250221
DTEND;VALUE=DATE:20250221
SUMMARY:Angebotsfrist — Trockenbau Decken
DESCRIPTION:Phase: Ausschreibung | Beschreibung: Angebote werden eingeholt | Link: https://ausschreibungsradar.com/ausschreibung/d905f8fb-60d4-4f14-bfb2-f437cb5f3a3b/
URL:https://ausschreibungsradar.com/ausschreibung/d905f8fb-60d4-4f14-bfb2-f437cb5f3a3b/
END:VEVENT
END:VCALENDAR
