BEGIN:VCALENDAR
VERSION:2.0
PRODID:-//AusschreibungsRadar//Timeline//DE
CALSCALE:GREGORIAN
METHOD:PUBLISH
X-WR-CALNAME:Projekt Erweiterungsbau Carl-von-Ossietzky-Schule – Freianlagenplanu
X-WR-TIMEZONE:Europe/Berlin
BEGIN:VEVENT
UID:7fb9cce60e746adf@ausschreibungsradar.com
DTSTAMP:20260424T232956Z
DTSTART;VALUE=DATE:20241028
DTEND;VALUE=DATE:20241028
SUMMARY:Ausschreibung — Erweiterungsbau Carl-von-Ossietzky-Schule – Freianlagenplanu
DESCRIPTION:Phase: Ausschreibung | Beschreibung: Angebote werden eingeholt | Link: https://ausschreibungsradar.com/ausschreibung/1b619d4e-3dfd-40f9-bdf2-b5a43054d1aa/
URL:https://ausschreibungsradar.com/ausschreibung/1b619d4e-3dfd-40f9-bdf2-b5a43054d1aa/
END:VEVENT
BEGIN:VEVENT
UID:8dfb3adad5302cd4@ausschreibungsradar.com
DTSTAMP:20260424T232956Z
DTSTART;VALUE=DATE:20260209
DTEND;VALUE=DATE:20260209
SUMMARY:Vergabeergebnis — Erweiterungsbau Carl-von-Ossietzky-Schule – Freianlagenplanu
DESCRIPTION:Phase: Vergabeergebnis | Beschreibung: Auftrag wurde zugeschlagen | Link: https://ausschreibungsradar.com/ausschreibung/d90affe9-2c58-4736-adf8-ff3b81126381/
URL:https://ausschreibungsradar.com/ausschreibung/d90affe9-2c58-4736-adf8-ff3b81126381/
END:VEVENT
BEGIN:VEVENT
UID:c0e40f97d11e4612@ausschreibungsradar.com
DTSTAMP:20260424T232956Z
DTSTART;VALUE=DATE:20260209
DTEND;VALUE=DATE:20260209
SUMMARY:Zuschlag — Erweiterungsbau Carl-von-Ossietzky-Schule – Freianlagenplanu
DESCRIPTION:Phase: Zuschlag | Beschreibung: Vergabeergebnis — Auftrag wurde erteilt oder Verfahren beendet. | Link: https://ausschreibungsradar.com/ausschreibung/812fa4c2-eed6-4320-902a-6fb48974a566/
URL:https://ausschreibungsradar.com/ausschreibung/812fa4c2-eed6-4320-902a-6fb48974a566/
END:VEVENT
END:VCALENDAR
