BEGIN:VCALENDAR
VERSION:2.0
PRODID:-//AusschreibungsRadar//Timeline//DE
CALSCALE:GREGORIAN
METHOD:PUBLISH
X-WR-CALNAME:Projekt GABL_TGA_BvA
X-WR-TIMEZONE:Europe/Berlin
BEGIN:VEVENT
UID:805d7aaefb00c7c8@ausschreibungsradar.com
DTSTAMP:20260425T013024Z
DTSTART;VALUE=DATE:20240226
DTEND;VALUE=DATE:20240226
SUMMARY:Angebotsfrist — GABL_TGA_BvA
DESCRIPTION:Phase: Ausschreibung | Beschreibung: Angebote werden eingeholt | Link: https://ausschreibungsradar.com/ausschreibung/1793cefd-2616-4fda-a02b-710af147a9cc/ | Geschätzter Wert: 340000 €
URL:https://ausschreibungsradar.com/ausschreibung/1793cefd-2616-4fda-a02b-710af147a9cc/
END:VEVENT
BEGIN:VEVENT
UID:43461d43596139e3@ausschreibungsradar.com
DTSTAMP:20260425T013024Z
DTSTART;VALUE=DATE:20240415
DTEND;VALUE=DATE:20240415
SUMMARY:Vergabeergebnis — GABL_TGA_BvA
DESCRIPTION:Phase: Vergabeergebnis | Beschreibung: Auftrag wurde zugeschlagen | Link: https://ausschreibungsradar.com/ausschreibung/d92fcab1-937f-47b4-817e-cb403e0b8b0e/ | Geschätzter Wert: 340000 €
URL:https://ausschreibungsradar.com/ausschreibung/d92fcab1-937f-47b4-817e-cb403e0b8b0e/
END:VEVENT
END:VCALENDAR
