BEGIN:VCALENDAR
VERSION:2.0
PRODID:-//AusschreibungsRadar//Timeline//DE
CALSCALE:GREGORIAN
METHOD:PUBLISH
X-WR-CALNAME:Projekt REZ Bayern_UB_AA Weilheim
X-WR-TIMEZONE:Europe/Berlin
BEGIN:VEVENT
UID:700f6691e67b2c1e@ausschreibungsradar.com
DTSTAMP:20260426T024035Z
DTSTART;VALUE=DATE:20251212
DTEND;VALUE=DATE:20251212
SUMMARY:Ausschreibung — REZ Bayern_UB_AA Weilheim
DESCRIPTION:Phase: Ausschreibung | Beschreibung: Angebote werden eingeholt | Link: https://ausschreibungsradar.com/ausschreibung/f613d270-d134-4ade-81ff-a5b655701fca/
URL:https://ausschreibungsradar.com/ausschreibung/f613d270-d134-4ade-81ff-a5b655701fca/
END:VEVENT
BEGIN:VEVENT
UID:f17b8bd6a512f6f5@ausschreibungsradar.com
DTSTAMP:20260426T024035Z
DTSTART;VALUE=DATE:20260324
DTEND;VALUE=DATE:20260324
SUMMARY:Vergabeergebnis — REZ Bayern_UB_AA Weilheim
DESCRIPTION:Phase: Vergabeergebnis | Beschreibung: Auftrag wurde zugeschlagen | Link: https://ausschreibungsradar.com/ausschreibung/d9c3ba58-997d-40c3-8e4a-a4f733ae1e3e/
URL:https://ausschreibungsradar.com/ausschreibung/d9c3ba58-997d-40c3-8e4a-a4f733ae1e3e/
END:VEVENT
BEGIN:VEVENT
UID:df5233476e15f1db@ausschreibungsradar.com
DTSTAMP:20260426T024035Z
DTSTART;VALUE=DATE:20260330
DTEND;VALUE=DATE:20260330
SUMMARY:Ausschreibung — REZ Bayern_UB_AA Weilheim
DESCRIPTION:Phase: Ausschreibung | Beschreibung: Offizielle Ausschreibung mit Bieterfrist. | Link: https://ausschreibungsradar.com/ausschreibung/418228b2-05eb-4035-8d6c-4f191559a635/
URL:https://ausschreibungsradar.com/ausschreibung/418228b2-05eb-4035-8d6c-4f191559a635/
END:VEVENT
END:VCALENDAR
