BEGIN:VCALENDAR
VERSION:2.0
PRODID:-//AusschreibungsRadar//Timeline//DE
CALSCALE:GREGORIAN
METHOD:PUBLISH
X-WR-CALNAME:Projekt Hochbaulicher und freiraumplanerischer Realisierungswettbewe
X-WR-TIMEZONE:Europe/Berlin
BEGIN:VEVENT
UID:0683d93c4eef98a6@ausschreibungsradar.com
DTSTAMP:20260425T222813Z
DTSTART;VALUE=DATE:20240623
DTEND;VALUE=DATE:20240623
SUMMARY:Ausschreibung — Hochbaulicher und freiraumplanerischer Realisierungswettbewe
DESCRIPTION:Phase: Ausschreibung | Beschreibung: Angebote werden eingeholt | Link: https://ausschreibungsradar.com/ausschreibung/d9e630a5-dc18-442e-a6f6-3a304d89a4c6/
URL:https://ausschreibungsradar.com/ausschreibung/d9e630a5-dc18-442e-a6f6-3a304d89a4c6/
END:VEVENT
BEGIN:VEVENT
UID:b60698805993377e@ausschreibungsradar.com
DTSTAMP:20260425T222813Z
DTSTART;VALUE=DATE:20240624
DTEND;VALUE=DATE:20240624
SUMMARY:Ausschreibung — Hochbaulicher und freiraumplanerischer Realisierungswettbewe
DESCRIPTION:Phase: Ausschreibung | Beschreibung: Offizielle Ausschreibung mit Bieterfrist. | Link: https://ausschreibungsradar.com/ausschreibung/ted-373485-2024/
URL:https://ausschreibungsradar.com/ausschreibung/ted-373485-2024/
END:VEVENT
BEGIN:VEVENT
UID:f2ce6c4ef771bc25@ausschreibungsradar.com
DTSTAMP:20260425T222813Z
DTSTART;VALUE=DATE:20260415
DTEND;VALUE=DATE:20260415
SUMMARY:Vergabeergebnis — Hochbaulicher und freiraumplanerischer Realisierungswettbewe
DESCRIPTION:Phase: Vergabeergebnis | Beschreibung: Auftrag wurde zugeschlagen | Link: https://ausschreibungsradar.com/ausschreibung/0fb7a33e-4595-4b11-a28b-151fca34c3b5/
URL:https://ausschreibungsradar.com/ausschreibung/0fb7a33e-4595-4b11-a28b-151fca34c3b5/
END:VEVENT
END:VCALENDAR
