BEGIN:VCALENDAR
VERSION:2.0
PRODID:-//AusschreibungsRadar//Timeline//DE
CALSCALE:GREGORIAN
METHOD:PUBLISH
X-WR-CALNAME:Projekt Universitätsklinikum Münster - 3800_15_606 Brandschutzsanier
X-WR-TIMEZONE:Europe/Berlin
BEGIN:VEVENT
UID:b917a4bd62a48324@ausschreibungsradar.com
DTSTAMP:20260426T025154Z
DTSTART;VALUE=DATE:20240920
DTEND;VALUE=DATE:20240920
SUMMARY:Angebotsfrist — Universitätsklinikum Münster - 3800_15_606 Brandschutzsanier
DESCRIPTION:Phase: Ausschreibung | Beschreibung: Angebote werden eingeholt | Link: https://ausschreibungsradar.com/ausschreibung/3fe91eec-ad37-49f9-922b-fd94ed2046a7/
URL:https://ausschreibungsradar.com/ausschreibung/3fe91eec-ad37-49f9-922b-fd94ed2046a7/
END:VEVENT
BEGIN:VEVENT
UID:9f4afa7d9ac40a47@ausschreibungsradar.com
DTSTAMP:20260426T025154Z
DTSTART;VALUE=DATE:20241115
DTEND;VALUE=DATE:20241115
SUMMARY:Vergabeergebnis — Universitätsklinikum Münster - 3800_15_606 Brandschutzsanier
DESCRIPTION:Phase: Vergabeergebnis | Beschreibung: Auftrag wurde zugeschlagen | Link: https://ausschreibungsradar.com/ausschreibung/da5b18b9-2af3-468e-883f-141c6eb50d18/
URL:https://ausschreibungsradar.com/ausschreibung/da5b18b9-2af3-468e-883f-141c6eb50d18/
END:VEVENT
BEGIN:VEVENT
UID:34fdf9d4a4cef6bb@ausschreibungsradar.com
DTSTAMP:20260426T025154Z
DTSTART;VALUE=DATE:20241118
DTEND;VALUE=DATE:20241118
SUMMARY:Zuschlag — Universitätsklinikum Münster - 3800_15_606 Brandschutzsanier
DESCRIPTION:Phase: Zuschlag | Beschreibung: Vergabeergebnis — Auftrag wurde erteilt oder Verfahren beendet. | Link: https://ausschreibungsradar.com/ausschreibung/ted-699825-2024/
URL:https://ausschreibungsradar.com/ausschreibung/ted-699825-2024/
END:VEVENT
BEGIN:VEVENT
UID:d7c67adf2ecc6efe@ausschreibungsradar.com
DTSTAMP:20260426T025154Z
DTSTART;VALUE=DATE:20241119
DTEND;VALUE=DATE:20241119
SUMMARY:Ausschreibung — Universitätsklinikum Münster - 3800_15_606 Brandschutzsanier
DESCRIPTION:Phase: Ausschreibung | Beschreibung: Offizielle Ausschreibung mit Bieterfrist. | Link: https://ausschreibungsradar.com/ausschreibung/6c68ee0d-41e2-46e7-a498-534cd84035cb/
URL:https://ausschreibungsradar.com/ausschreibung/6c68ee0d-41e2-46e7-a498-534cd84035cb/
END:VEVENT
END:VCALENDAR
