BEGIN:VCALENDAR
VERSION:2.0
PRODID:-//AusschreibungsRadar//Timeline//DE
CALSCALE:GREGORIAN
METHOD:PUBLISH
X-WR-CALNAME:Projekt Kur- und Tourismusservice Pellworm, Neubau eines Tiefwassera
X-WR-TIMEZONE:Europe/Berlin
BEGIN:VEVENT
UID:35f2fd9119f557d0@ausschreibungsradar.com
DTSTAMP:20260426T001516Z
DTSTART;VALUE=DATE:20240304
DTEND;VALUE=DATE:20240304
SUMMARY:Ausschreibung — Kur- und Tourismusservice Pellworm\, Neubau eines Tiefwassera
DESCRIPTION:Phase: Ausschreibung | Beschreibung: Angebote werden eingeholt | Link: https://ausschreibungsradar.com/ausschreibung/da6d73b4-1620-4085-8c8a-02643a395994/ | Geschätzter Wert: 100000 €
URL:https://ausschreibungsradar.com/ausschreibung/da6d73b4-1620-4085-8c8a-02643a395994/
END:VEVENT
BEGIN:VEVENT
UID:a49778f98fc6acce@ausschreibungsradar.com
DTSTAMP:20260426T001516Z
DTSTART;VALUE=DATE:20240304
DTEND;VALUE=DATE:20240304
SUMMARY:Ausschreibung — Kur- und Tourismusservice Pellworm\, Neubau eines Tiefwassera
DESCRIPTION:Phase: Ausschreibung | Beschreibung: Offizielle Ausschreibung mit Bieterfrist. | Link: https://ausschreibungsradar.com/ausschreibung/77453b90-b180-4573-a1ea-7bcbd0993930/
URL:https://ausschreibungsradar.com/ausschreibung/77453b90-b180-4573-a1ea-7bcbd0993930/
END:VEVENT
BEGIN:VEVENT
UID:bcd93812804bfa74@ausschreibungsradar.com
DTSTAMP:20260426T001516Z
DTSTART;VALUE=DATE:20240305
DTEND;VALUE=DATE:20240305
SUMMARY:Ausschreibung — Kur- und Tourismusservice Pellworm\, Neubau eines Tiefwassera
DESCRIPTION:Phase: Ausschreibung | Beschreibung: Offizielle Ausschreibung mit Bieterfrist. | Link: https://ausschreibungsradar.com/ausschreibung/ted-133260-2024/
URL:https://ausschreibungsradar.com/ausschreibung/ted-133260-2024/
END:VEVENT
END:VCALENDAR
