BEGIN:VCALENDAR
VERSION:2.0
PRODID:-//AusschreibungsRadar//Timeline//DE
CALSCALE:GREGORIAN
METHOD:PUBLISH
X-WR-CALNAME:Projekt Rahmenvertrag Automatisierungstechnik.
X-WR-TIMEZONE:Europe/Berlin
BEGIN:VEVENT
UID:6d835d1233ae796b@ausschreibungsradar.com
DTSTAMP:20260425T221408Z
DTSTART;VALUE=DATE:20260106
DTEND;VALUE=DATE:20260106
SUMMARY:Angebotsfrist — Rahmenvertrag Automatisierungstechnik.
DESCRIPTION:Phase: Ausschreibung | Beschreibung: Angebote werden eingeholt | Link: https://ausschreibungsradar.com/ausschreibung/daa2ed62-b149-414b-b0d1-d98624125e22/
URL:https://ausschreibungsradar.com/ausschreibung/daa2ed62-b149-414b-b0d1-d98624125e22/
END:VEVENT
END:VCALENDAR
