BEGIN:VCALENDAR
VERSION:2.0
PRODID:-//AusschreibungsRadar//Timeline//DE
CALSCALE:GREGORIAN
METHOD:PUBLISH
X-WR-CALNAME:Projekt Kläranlage Mönchengladbach-Neuwerk – Erweiterung Nachklärung
X-WR-TIMEZONE:Europe/Berlin
BEGIN:VEVENT
UID:8210bf6b82c5be52@ausschreibungsradar.com
DTSTAMP:20260424T133243Z
DTSTART;VALUE=DATE:20240830
DTEND;VALUE=DATE:20240830
SUMMARY:Ausschreibung — Kläranlage Mönchengladbach-Neuwerk – Erweiterung Nachklärung
DESCRIPTION:Phase: Ausschreibung | Beschreibung: Offizielle Ausschreibung mit Bieterfrist. | Link: https://ausschreibungsradar.com/ausschreibung/d01bcea8-f386-4147-957f-9ae9a81d2336/
URL:https://ausschreibungsradar.com/ausschreibung/d01bcea8-f386-4147-957f-9ae9a81d2336/
END:VEVENT
BEGIN:VEVENT
UID:28fbfc213a69f349@ausschreibungsradar.com
DTSTAMP:20260424T133243Z
DTSTART;VALUE=DATE:20241009
DTEND;VALUE=DATE:20241009
SUMMARY:Angebotsfrist — Kläranlage Mönchengladbach-Neuwerk – Erweiterung Nachklärung
DESCRIPTION:Phase: Ausschreibung | Beschreibung: Angebote werden eingeholt | Link: https://ausschreibungsradar.com/ausschreibung/dab10dee-981d-4bcf-b264-bfc3abd5e887/
URL:https://ausschreibungsradar.com/ausschreibung/dab10dee-981d-4bcf-b264-bfc3abd5e887/
END:VEVENT
BEGIN:VEVENT
UID:bf65e77084f76895@ausschreibungsradar.com
DTSTAMP:20260424T133243Z
DTSTART;VALUE=DATE:20241219
DTEND;VALUE=DATE:20241219
SUMMARY:Vergabeergebnis — Kläranlage Mönchengladbach-Neuwerk – Erweiterung Nachklärung
DESCRIPTION:Phase: Vergabeergebnis | Beschreibung: Auftrag wurde zugeschlagen | Link: https://ausschreibungsradar.com/ausschreibung/654e061d-0cce-4d17-b890-5206b66b7123/ | Auftragnehmer: HT Hydrotechnik Pumpenanl
URL:https://ausschreibungsradar.com/ausschreibung/654e061d-0cce-4d17-b890-5206b66b7123/
END:VEVENT
END:VCALENDAR
