BEGIN:VCALENDAR
VERSION:2.0
PRODID:-//AusschreibungsRadar//Timeline//DE
CALSCALE:GREGORIAN
METHOD:PUBLISH
X-WR-CALNAME:Projekt Neubau (Aufstockung) ehemaliges CJD-Gebäude in Vaihingen Enz
X-WR-TIMEZONE:Europe/Berlin
BEGIN:VEVENT
UID:151ce07193673631@ausschreibungsradar.com
DTSTAMP:20260424T091225Z
DTSTART;VALUE=DATE:20260314
DTEND;VALUE=DATE:20260314
SUMMARY:Ausschreibung — Neubau (Aufstockung) ehemaliges CJD-Gebäude in Vaihingen Enz
DESCRIPTION:Phase: Ausschreibung | Beschreibung: Angebote werden eingeholt | Link: https://ausschreibungsradar.com/ausschreibung/dadc8fc3-f4da-46fb-9333-dcbfc1597689/
URL:https://ausschreibungsradar.com/ausschreibung/dadc8fc3-f4da-46fb-9333-dcbfc1597689/
END:VEVENT
BEGIN:VEVENT
UID:e2a3593f1c851ac0@ausschreibungsradar.com
DTSTAMP:20260424T091225Z
DTSTART;VALUE=DATE:20260314
DTEND;VALUE=DATE:20260314
SUMMARY:Ausschreibung — Neubau (Aufstockung) ehemaliges CJD-Gebäude in Vaihingen Enz
DESCRIPTION:Phase: Ausschreibung | Beschreibung: Offizielle Ausschreibung mit Bieterfrist. | Link: https://ausschreibungsradar.com/ausschreibung/a779c3ef-ca6e-49db-a8c6-db9234e1b60f/
URL:https://ausschreibungsradar.com/ausschreibung/a779c3ef-ca6e-49db-a8c6-db9234e1b60f/
END:VEVENT
END:VCALENDAR
