BEGIN:VCALENDAR
VERSION:2.0
PRODID:-//AusschreibungsRadar//Timeline//DE
CALSCALE:GREGORIAN
METHOD:PUBLISH
X-WR-CALNAME:Projekt Ingenieurleistungen nach Teil 4 Abschnitt 2 HOAI
X-WR-TIMEZONE:Europe/Berlin
BEGIN:VEVENT
UID:ef6909ad177cc0a2@ausschreibungsradar.com
DTSTAMP:20260425T034647Z
DTSTART;VALUE=DATE:20241024
DTEND;VALUE=DATE:20241024
SUMMARY:Ausschreibung — Ingenieurleistungen nach Teil 4 Abschnitt 2 HOAI
DESCRIPTION:Phase: Ausschreibung | Beschreibung: Angebote werden eingeholt | Link: https://ausschreibungsradar.com/ausschreibung/dae544ad-be52-4688-8288-218a2d113016/ | Geschätzter Wert: 368000 €
URL:https://ausschreibungsradar.com/ausschreibung/dae544ad-be52-4688-8288-218a2d113016/
END:VEVENT
BEGIN:VEVENT
UID:9ab909b26752e67c@ausschreibungsradar.com
DTSTAMP:20260425T034647Z
DTSTART;VALUE=DATE:20250312
DTEND;VALUE=DATE:20250312
SUMMARY:Vergabeergebnis — Ingenieurleistungen nach Teil 4 Abschnitt 2 HOAI
DESCRIPTION:Phase: Vergabeergebnis | Beschreibung: Auftrag wurde zugeschlagen | Link: https://ausschreibungsradar.com/ausschreibung/6753e5f8-abf0-4126-bd87-09b0ab8607c8/ | Geschätzter Wert: 368000 €
URL:https://ausschreibungsradar.com/ausschreibung/6753e5f8-abf0-4126-bd87-09b0ab8607c8/
END:VEVENT
END:VCALENDAR
