BEGIN:VCALENDAR
VERSION:2.0
PRODID:-//AusschreibungsRadar//Timeline//DE
CALSCALE:GREGORIAN
METHOD:PUBLISH
X-WR-CALNAME:Projekt Erbringung von Personenverkehrsdiensten gemäß §§ 42 und 43 P
X-WR-TIMEZONE:Europe/Berlin
BEGIN:VEVENT
UID:2331c2fd8a12a4da@ausschreibungsradar.com
DTSTAMP:20260425T151602Z
DTSTART;VALUE=DATE:20251027
DTEND;VALUE=DATE:20251027
SUMMARY:Angebotsfrist — Erbringung von Personenverkehrsdiensten gemäß §§ 42 und 43 P
DESCRIPTION:Phase: Ausschreibung | Beschreibung: Angebote werden eingeholt | Link: https://ausschreibungsradar.com/ausschreibung/db466b8e-2410-4bfd-857b-77658e35538c/
URL:https://ausschreibungsradar.com/ausschreibung/db466b8e-2410-4bfd-857b-77658e35538c/
END:VEVENT
END:VCALENDAR
