BEGIN:VCALENDAR
VERSION:2.0
PRODID:-//AusschreibungsRadar//Timeline//DE
CALSCALE:GREGORIAN
METHOD:PUBLISH
X-WR-CALNAME:Projekt BLB Aachen | Ruhr Universität Bochum (RUB) | Forschungsbau E
X-WR-TIMEZONE:Europe/Berlin
BEGIN:VEVENT
UID:399ea4af7638b618@ausschreibungsradar.com
DTSTAMP:20260425T184206Z
DTSTART;VALUE=DATE:20251021
DTEND;VALUE=DATE:20251021
SUMMARY:Angebotsfrist — BLB Aachen | Ruhr Universität Bochum (RUB) | Forschungsbau E
DESCRIPTION:Phase: Ausschreibung | Beschreibung: Angebote werden eingeholt | Link: https://ausschreibungsradar.com/ausschreibung/345a2454-0475-49f5-a00c-0d03a1778642/
URL:https://ausschreibungsradar.com/ausschreibung/345a2454-0475-49f5-a00c-0d03a1778642/
END:VEVENT
BEGIN:VEVENT
UID:a49ebf0bd2fc270b@ausschreibungsradar.com
DTSTAMP:20260425T184206Z
DTSTART;VALUE=DATE:20250917
DTEND;VALUE=DATE:20250917
SUMMARY:Ausschreibung — BLB Aachen | Ruhr Universität Bochum (RUB) | Forschungsbau E
DESCRIPTION:Phase: Ausschreibung | Beschreibung: Offizielle Ausschreibung mit Bieterfrist. | Link: https://ausschreibungsradar.com/ausschreibung/eb5f2c13-2af0-432e-b124-7e51401ccd24/
URL:https://ausschreibungsradar.com/ausschreibung/eb5f2c13-2af0-432e-b124-7e51401ccd24/
END:VEVENT
BEGIN:VEVENT
UID:e0e578675782b0c8@ausschreibungsradar.com
DTSTAMP:20260425T184206Z
DTSTART;VALUE=DATE:20251110
DTEND;VALUE=DATE:20251110
SUMMARY:Zuschlag — BLB Aachen | Ruhr Universität Bochum (RUB) | Forschungsbau E
DESCRIPTION:Phase: Zuschlag | Beschreibung: Vergabeergebnis — Auftrag wurde erteilt oder Verfahren beendet. | Link: https://ausschreibungsradar.com/ausschreibung/f575be52-98a7-46ab-94bd-c64a6a3685b1/
URL:https://ausschreibungsradar.com/ausschreibung/f575be52-98a7-46ab-94bd-c64a6a3685b1/
END:VEVENT
BEGIN:VEVENT
UID:9c5c5b572a2d6bc7@ausschreibungsradar.com
DTSTAMP:20260425T184206Z
DTSTART;VALUE=DATE:20251121
DTEND;VALUE=DATE:20251121
SUMMARY:Vergabeergebnis — BLB Aachen | Ruhr Universität Bochum (RUB) | Forschungsbau E
DESCRIPTION:Phase: Vergabeergebnis | Beschreibung: Sonstige Gründe | Link: https://ausschreibungsradar.com/ausschreibung/dbbbf4a1-b0e4-489a-9279-b4f28a2e6a3f/
URL:https://ausschreibungsradar.com/ausschreibung/dbbbf4a1-b0e4-489a-9279-b4f28a2e6a3f/
END:VEVENT
BEGIN:VEVENT
UID:d2634f866af11983@ausschreibungsradar.com
DTSTAMP:20260425T184206Z
DTSTART;VALUE=DATE:20251210
DTEND;VALUE=DATE:20251210
SUMMARY:Ausschreibung — BLB Aachen | Ruhr Universität Bochum (RUB) | Forschungsbau E
DESCRIPTION:Phase: Ausschreibung | Beschreibung: Offizielle Ausschreibung mit Bieterfrist. | Link: https://ausschreibungsradar.com/ausschreibung/bbc40045-4141-4832-8e6c-c53d3c70a413/
URL:https://ausschreibungsradar.com/ausschreibung/bbc40045-4141-4832-8e6c-c53d3c70a413/
END:VEVENT
END:VCALENDAR
