BEGIN:VCALENDAR
VERSION:2.0
PRODID:-//AusschreibungsRadar//Timeline//DE
CALSCALE:GREGORIAN
METHOD:PUBLISH
X-WR-CALNAME:Projekt MFH Murgstraße
X-WR-TIMEZONE:Europe/Berlin
BEGIN:VEVENT
UID:ce4096770e6629ed@ausschreibungsradar.com
DTSTAMP:20260424T104904Z
DTSTART;VALUE=DATE:20240402
DTEND;VALUE=DATE:20240402
SUMMARY:Angebotsfrist — MFH Murgstraße
DESCRIPTION:Phase: Ausschreibung | Beschreibung: Angebote werden eingeholt | Link: https://ausschreibungsradar.com/ausschreibung/dbcbb8dc-5c6b-4532-a53c-5c5f3f03dcb6/
URL:https://ausschreibungsradar.com/ausschreibung/dbcbb8dc-5c6b-4532-a53c-5c5f3f03dcb6/
END:VEVENT
BEGIN:VEVENT
UID:6dfdf3bbb251091a@ausschreibungsradar.com
DTSTAMP:20260424T104904Z
DTSTART;VALUE=DATE:20240222
DTEND;VALUE=DATE:20240222
SUMMARY:Ausschreibung — MFH Murgstraße
DESCRIPTION:Phase: Ausschreibung | Beschreibung: Offizielle Ausschreibung mit Bieterfrist. | Link: https://ausschreibungsradar.com/ausschreibung/035fe098-7d83-44b3-8c88-1336e26377f8/
URL:https://ausschreibungsradar.com/ausschreibung/035fe098-7d83-44b3-8c88-1336e26377f8/
END:VEVENT
BEGIN:VEVENT
UID:28247a68e15ddbc9@ausschreibungsradar.com
DTSTAMP:20260424T104904Z
DTSTART;VALUE=DATE:20240713
DTEND;VALUE=DATE:20240713
SUMMARY:Vergabeergebnis — MFH Murgstraße
DESCRIPTION:Phase: Vergabeergebnis | Beschreibung: Auftrag wurde zugeschlagen | Link: https://ausschreibungsradar.com/ausschreibung/0c78d236-5b28-45a3-aa92-37e8c8794d07/ | Auftragnehmer: HAN Gerüstbau GmbH & Co. 
URL:https://ausschreibungsradar.com/ausschreibung/0c78d236-5b28-45a3-aa92-37e8c8794d07/
END:VEVENT
END:VCALENDAR
