BEGIN:VCALENDAR
VERSION:2.0
PRODID:-//AusschreibungsRadar//Timeline//DE
CALSCALE:GREGORIAN
METHOD:PUBLISH
X-WR-CALNAME:Projekt Lieferung der Beladung für ein Löschgruppenfahrzeug LF 20 de
X-WR-TIMEZONE:Europe/Berlin
BEGIN:VEVENT
UID:7859e2ecef9076a5@ausschreibungsradar.com
DTSTAMP:20260425T233956Z
DTSTART;VALUE=DATE:20241015
DTEND;VALUE=DATE:20241015
SUMMARY:Angebotsfrist — Lieferung der Beladung für ein Löschgruppenfahrzeug LF 20 de
DESCRIPTION:Phase: Ausschreibung | Beschreibung: Angebote werden eingeholt | Link: https://ausschreibungsradar.com/ausschreibung/dc077b59-2cfa-4264-8f83-3d7ed5a35d26/
URL:https://ausschreibungsradar.com/ausschreibung/dc077b59-2cfa-4264-8f83-3d7ed5a35d26/
END:VEVENT
BEGIN:VEVENT
UID:5a680c4412e2b1e3@ausschreibungsradar.com
DTSTAMP:20260425T233956Z
DTSTART;VALUE=DATE:20241203
DTEND;VALUE=DATE:20241203
SUMMARY:Vergabeergebnis — Lieferung der Beladung für ein Löschgruppenfahrzeug LF 20 de
DESCRIPTION:Phase: Vergabeergebnis | Beschreibung: Auftrag wurde zugeschlagen | Link: https://ausschreibungsradar.com/ausschreibung/9d13bd8a-43fd-419f-a65a-16d181b7cafe/ | Auftragnehmer: Matuczak Feuerschutz Inh.
URL:https://ausschreibungsradar.com/ausschreibung/9d13bd8a-43fd-419f-a65a-16d181b7cafe/
END:VEVENT
END:VCALENDAR
