BEGIN:VCALENDAR
VERSION:2.0
PRODID:-//AusschreibungsRadar//Timeline//DE
CALSCALE:GREGORIAN
METHOD:PUBLISH
X-WR-CALNAME:Projekt Neubau der Bauhof-Mittelhalle in Zirndorf; Technische Gebäud
X-WR-TIMEZONE:Europe/Berlin
BEGIN:VEVENT
UID:55b27ee5bbb0f573@ausschreibungsradar.com
DTSTAMP:20260425T232204Z
DTSTART;VALUE=DATE:20240318
DTEND;VALUE=DATE:20240318
SUMMARY:Zuschlag — Neubau der Bauhof-Mittelhalle in Zirndorf\; Technische Gebäud
DESCRIPTION:Phase: Zuschlag | Beschreibung: Vergabeergebnis — Auftrag wurde erteilt oder Verfahren beendet. | Link: https://ausschreibungsradar.com/ausschreibung/5a685f71-5c4e-4af8-9fe1-20df116f09af/
URL:https://ausschreibungsradar.com/ausschreibung/5a685f71-5c4e-4af8-9fe1-20df116f09af/
END:VEVENT
BEGIN:VEVENT
UID:76b5c04a6ff73fa9@ausschreibungsradar.com
DTSTAMP:20260425T232204Z
DTSTART;VALUE=DATE:20240327
DTEND;VALUE=DATE:20240327
SUMMARY:Ausschreibung — Neubau der Bauhof-Mittelhalle in Zirndorf\; Technische Gebäud
DESCRIPTION:Phase: Ausschreibung | Beschreibung: Offizielle Ausschreibung mit Bieterfrist. | Link: https://ausschreibungsradar.com/ausschreibung/dc10b38f-2261-42ac-a2fc-f020588e2fa8/
URL:https://ausschreibungsradar.com/ausschreibung/dc10b38f-2261-42ac-a2fc-f020588e2fa8/
END:VEVENT
BEGIN:VEVENT
UID:31bf3074ec75c9f0@ausschreibungsradar.com
DTSTAMP:20260425T232204Z
DTSTART;VALUE=DATE:20240327
DTEND;VALUE=DATE:20240327
SUMMARY:Ausschreibung — Neubau der Bauhof-Mittelhalle in Zirndorf\; Technische Gebäud
DESCRIPTION:Phase: Ausschreibung | Beschreibung: Offizielle Ausschreibung mit Bieterfrist. | Link: https://ausschreibungsradar.com/ausschreibung/dd1ec31d-72c1-4a8f-b19f-c74e7c84c760/
URL:https://ausschreibungsradar.com/ausschreibung/dd1ec31d-72c1-4a8f-b19f-c74e7c84c760/
END:VEVENT
END:VCALENDAR
