BEGIN:VCALENDAR
VERSION:2.0
PRODID:-//AusschreibungsRadar//Timeline//DE
CALSCALE:GREGORIAN
METHOD:PUBLISH
X-WR-CALNAME:Projekt Neubau GS Westercelle-Anlieferküche
X-WR-TIMEZONE:Europe/Berlin
BEGIN:VEVENT
UID:04324531c88e59ce@ausschreibungsradar.com
DTSTAMP:20260424T133215Z
DTSTART;VALUE=DATE:20240801
DTEND;VALUE=DATE:20240801
SUMMARY:Angebotsfrist — Neubau GS Westercelle-Anlieferküche
DESCRIPTION:Phase: Ausschreibung | Beschreibung: Angebote werden eingeholt | Link: https://ausschreibungsradar.com/ausschreibung/dc113e3c-e23d-4a93-a978-c459f30c40d6/
URL:https://ausschreibungsradar.com/ausschreibung/dc113e3c-e23d-4a93-a978-c459f30c40d6/
END:VEVENT
END:VCALENDAR
