BEGIN:VCALENDAR
VERSION:2.0
PRODID:-//AusschreibungsRadar//Timeline//DE
CALSCALE:GREGORIAN
METHOD:PUBLISH
X-WR-CALNAME:Projekt Universitätsklinikum Münster - 3800_15_606 Brandschutzsanier
X-WR-TIMEZONE:Europe/Berlin
BEGIN:VEVENT
UID:c9eddbce9bccf3c4@ausschreibungsradar.com
DTSTAMP:20260425T115151Z
DTSTART;VALUE=DATE:20240604
DTEND;VALUE=DATE:20240604
SUMMARY:Angebotsfrist — Universitätsklinikum Münster - 3800_15_606 Brandschutzsanier
DESCRIPTION:Phase: Ausschreibung | Beschreibung: Angebote werden eingeholt | Link: https://ausschreibungsradar.com/ausschreibung/dc1992c3-cbf4-4afe-ad9f-8268c9509d65/
URL:https://ausschreibungsradar.com/ausschreibung/dc1992c3-cbf4-4afe-ad9f-8268c9509d65/
END:VEVENT
BEGIN:VEVENT
UID:24c897d3a8fe2e93@ausschreibungsradar.com
DTSTAMP:20260425T115151Z
DTSTART;VALUE=DATE:20240503
DTEND;VALUE=DATE:20240503
SUMMARY:Ausschreibung — Universitätsklinikum Münster - 3800_15_606 Brandschutzsanier
DESCRIPTION:Phase: Ausschreibung | Beschreibung: Offizielle Ausschreibung mit Bieterfrist. | Link: https://ausschreibungsradar.com/ausschreibung/ted-264615-2024/
URL:https://ausschreibungsradar.com/ausschreibung/ted-264615-2024/
END:VEVENT
BEGIN:VEVENT
UID:5ff458559d77e5eb@ausschreibungsradar.com
DTSTAMP:20260425T115151Z
DTSTART;VALUE=DATE:20240521
DTEND;VALUE=DATE:20240521
SUMMARY:Zuschlag — Universitätsklinikum Münster - 3800_15_606 Brandschutzsanier
DESCRIPTION:Phase: Zuschlag | Beschreibung: Vergabeergebnis — Auftrag wurde erteilt oder Verfahren beendet. | Link: https://ausschreibungsradar.com/ausschreibung/72a27ed4-f58b-418d-a609-23cc58eaf30a/
URL:https://ausschreibungsradar.com/ausschreibung/72a27ed4-f58b-418d-a609-23cc58eaf30a/
END:VEVENT
BEGIN:VEVENT
UID:198b522f3334ff3d@ausschreibungsradar.com
DTSTAMP:20260425T115151Z
DTSTART;VALUE=DATE:20240729
DTEND;VALUE=DATE:20240729
SUMMARY:Vergabeergebnis — Universitätsklinikum Münster - 3800_15_606 Brandschutzsanier
DESCRIPTION:Phase: Vergabeergebnis | Beschreibung: Auftrag wurde zugeschlagen | Link: https://ausschreibungsradar.com/ausschreibung/db8a4a6f-cf7a-4d69-84eb-a448b06a65d8/
URL:https://ausschreibungsradar.com/ausschreibung/db8a4a6f-cf7a-4d69-84eb-a448b06a65d8/
END:VEVENT
END:VCALENDAR
