BEGIN:VCALENDAR
VERSION:2.0
PRODID:-//AusschreibungsRadar//Timeline//DE
CALSCALE:GREGORIAN
METHOD:PUBLISH
X-WR-CALNAME:Projekt Bereitstellung von Wegepunkt-FCD sowie eines passenden Diens
X-WR-TIMEZONE:Europe/Berlin
BEGIN:VEVENT
UID:23c5e9732ba4bf65@ausschreibungsradar.com
DTSTAMP:20260425T185212Z
DTSTART;VALUE=DATE:20251205
DTEND;VALUE=DATE:20251205
SUMMARY:Ausschreibung — Bereitstellung von Wegepunkt-FCD sowie eines passenden Diens
DESCRIPTION:Phase: Ausschreibung | Beschreibung: Angebote werden eingeholt | Link: https://ausschreibungsradar.com/ausschreibung/dc90e9bb-9c53-4324-a91e-f7dd6ce7d63d/
URL:https://ausschreibungsradar.com/ausschreibung/dc90e9bb-9c53-4324-a91e-f7dd6ce7d63d/
END:VEVENT
BEGIN:VEVENT
UID:e2768657c802d41d@ausschreibungsradar.com
DTSTAMP:20260425T185212Z
DTSTART;VALUE=DATE:20251205
DTEND;VALUE=DATE:20251205
SUMMARY:Ausschreibung — Bereitstellung von Wegepunkt-FCD sowie eines passenden Diens
DESCRIPTION:Phase: Ausschreibung | Beschreibung: Offizielle Ausschreibung mit Bieterfrist. | Link: https://ausschreibungsradar.com/ausschreibung/70e5462c-ab95-446f-8d8c-ede0176d83d1/
URL:https://ausschreibungsradar.com/ausschreibung/70e5462c-ab95-446f-8d8c-ede0176d83d1/
END:VEVENT
BEGIN:VEVENT
UID:c545dafd1485c285@ausschreibungsradar.com
DTSTAMP:20260425T185212Z
DTSTART;VALUE=DATE:20251205
DTEND;VALUE=DATE:20251205
SUMMARY:Ausschreibung — Bereitstellung von Wegepunkt-FCD sowie eines passenden Diens
DESCRIPTION:Phase: Ausschreibung | Beschreibung: Offizielle Ausschreibung mit Bieterfrist. | Link: https://ausschreibungsradar.com/ausschreibung/25344b5d-6553-4c19-be50-3ec19d1c74f0/
URL:https://ausschreibungsradar.com/ausschreibung/25344b5d-6553-4c19-be50-3ec19d1c74f0/
END:VEVENT
END:VCALENDAR
