BEGIN:VCALENDAR
VERSION:2.0
PRODID:-//AusschreibungsRadar//Timeline//DE
CALSCALE:GREGORIAN
METHOD:PUBLISH
X-WR-CALNAME:Projekt Mutter-Kind-Zentrum Auf der Bult, Hannover - Alarmsystem
X-WR-TIMEZONE:Europe/Berlin
BEGIN:VEVENT
UID:8e6f0df2f91a5e2d@ausschreibungsradar.com
DTSTAMP:20260425T031114Z
DTSTART;VALUE=DATE:20240220
DTEND;VALUE=DATE:20240220
SUMMARY:Angebotsfrist — Mutter-Kind-Zentrum Auf der Bult\, Hannover - Alarmsystem
DESCRIPTION:Phase: Ausschreibung | Beschreibung: Angebote werden eingeholt | Link: https://ausschreibungsradar.com/ausschreibung/8a9844dd-d064-47cc-9c6c-4d4de0bb5671/ | Geschätzter Wert: 37000 €
URL:https://ausschreibungsradar.com/ausschreibung/8a9844dd-d064-47cc-9c6c-4d4de0bb5671/
END:VEVENT
BEGIN:VEVENT
UID:f62064dbb54d1c2c@ausschreibungsradar.com
DTSTAMP:20260425T031114Z
DTSTART;VALUE=DATE:20240319
DTEND;VALUE=DATE:20240319
SUMMARY:Zuschlag — Mutter-Kind-Zentrum Auf der Bult\, Hannover - Alarmsystem
DESCRIPTION:Phase: Zuschlag | Beschreibung: Vergabeergebnis — Auftrag wurde erteilt oder Verfahren beendet. | Link: https://ausschreibungsradar.com/ausschreibung/9efd8ff3-9153-403e-985c-85b5bd447518/
URL:https://ausschreibungsradar.com/ausschreibung/9efd8ff3-9153-403e-985c-85b5bd447518/
END:VEVENT
BEGIN:VEVENT
UID:8f0050e68f982b1a@ausschreibungsradar.com
DTSTAMP:20260425T031114Z
DTSTART;VALUE=DATE:20240320
DTEND;VALUE=DATE:20240320
SUMMARY:Vergabeergebnis — Mutter-Kind-Zentrum Auf der Bult\, Hannover - Alarmsystem
DESCRIPTION:Phase: Vergabeergebnis | Beschreibung: Auftrag wurde zugeschlagen | Link: https://ausschreibungsradar.com/ausschreibung/dd2e160c-239f-493d-b74e-0006b35d9df9/ | Geschätzter Wert: 37000 €
URL:https://ausschreibungsradar.com/ausschreibung/dd2e160c-239f-493d-b74e-0006b35d9df9/
END:VEVENT
BEGIN:VEVENT
UID:f2b2319cabf22617@ausschreibungsradar.com
DTSTAMP:20260425T031114Z
DTSTART;VALUE=DATE:20240416
DTEND;VALUE=DATE:20240416
SUMMARY:Ausschreibung — Mutter-Kind-Zentrum Auf der Bult\, Hannover - Alarmsystem
DESCRIPTION:Phase: Ausschreibung | Beschreibung: Offizielle Ausschreibung mit Bieterfrist. | Link: https://ausschreibungsradar.com/ausschreibung/bf5c8d08-39d2-4232-8a55-64f06af78985/
URL:https://ausschreibungsradar.com/ausschreibung/bf5c8d08-39d2-4232-8a55-64f06af78985/
END:VEVENT
END:VCALENDAR
