BEGIN:VCALENDAR
VERSION:2.0
PRODID:-//AusschreibungsRadar//Timeline//DE
CALSCALE:GREGORIAN
METHOD:PUBLISH
X-WR-CALNAME:Projekt Neubau Pandaanlage im Münchner Tierpark Hellabrunn - Projekt
X-WR-TIMEZONE:Europe/Berlin
BEGIN:VEVENT
UID:9ad09334a776104b@ausschreibungsradar.com
DTSTAMP:20260424T121007Z
DTSTART;VALUE=DATE:20260430
DTEND;VALUE=DATE:20260430
SUMMARY:Angebotsfrist — Neubau Pandaanlage im Münchner Tierpark Hellabrunn - Projekt
DESCRIPTION:Phase: Ausschreibung | Beschreibung: Angebote werden eingeholt | Link: https://ausschreibungsradar.com/ausschreibung/ddb7d581-53b3-420b-ac0b-9ecaf0c9b178/
URL:https://ausschreibungsradar.com/ausschreibung/ddb7d581-53b3-420b-ac0b-9ecaf0c9b178/
END:VEVENT
BEGIN:VEVENT
UID:dc5242e649dcef3f@ausschreibungsradar.com
DTSTAMP:20260424T121007Z
DTSTART;VALUE=DATE:20260413
DTEND;VALUE=DATE:20260413
SUMMARY:Ausschreibung — Neubau Pandaanlage im Münchner Tierpark Hellabrunn - Projekt
DESCRIPTION:Phase: Ausschreibung | Beschreibung: Offizielle Ausschreibung mit Bieterfrist. | Link: https://ausschreibungsradar.com/ausschreibung/fb914d53-39e8-459f-9351-90a5129f554c/
URL:https://ausschreibungsradar.com/ausschreibung/fb914d53-39e8-459f-9351-90a5129f554c/
END:VEVENT
END:VCALENDAR
