BEGIN:VCALENDAR
VERSION:2.0
PRODID:-//AusschreibungsRadar//Timeline//DE
CALSCALE:GREGORIAN
METHOD:PUBLISH
X-WR-CALNAME:Projekt Lfd. Unterhalts-, feste Grund-, opt. Sonder- u. Grundreinigu
X-WR-TIMEZONE:Europe/Berlin
BEGIN:VEVENT
UID:72a9b2f4f760e05c@ausschreibungsradar.com
DTSTAMP:20260425T180839Z
DTSTART;VALUE=DATE:20251216
DTEND;VALUE=DATE:20251216
SUMMARY:Angebotsfrist — Lfd. Unterhalts-\, feste Grund-\, opt. Sonder- u. Grundreinigu
DESCRIPTION:Phase: Ausschreibung | Beschreibung: Angebote werden eingeholt | Link: https://ausschreibungsradar.com/ausschreibung/de6145b9-43d3-45bd-a9de-ab15ed4015f4/
URL:https://ausschreibungsradar.com/ausschreibung/de6145b9-43d3-45bd-a9de-ab15ed4015f4/
END:VEVENT
BEGIN:VEVENT
UID:d4efbba1d067509c@ausschreibungsradar.com
DTSTAMP:20260425T180839Z
DTSTART;VALUE=DATE:20260304
DTEND;VALUE=DATE:20260304
SUMMARY:Vergabeergebnis — Lfd. Unterhalts-\, feste Grund-\, opt. Sonder- u. Grundreinigu
DESCRIPTION:Phase: Vergabeergebnis | Beschreibung: Auftrag wurde zugeschlagen | Link: https://ausschreibungsradar.com/ausschreibung/2718fc31-9579-4ae7-9ae6-31642a67173f/
URL:https://ausschreibungsradar.com/ausschreibung/2718fc31-9579-4ae7-9ae6-31642a67173f/
END:VEVENT
END:VCALENDAR
