BEGIN:VCALENDAR
VERSION:2.0
PRODID:-//AusschreibungsRadar//Timeline//DE
CALSCALE:GREGORIAN
METHOD:PUBLISH
X-WR-CALNAME:Projekt Bereitschaftspolizei und Polizeifachschule Chemnitz, Neubau 
X-WR-TIMEZONE:Europe/Berlin
BEGIN:VEVENT
UID:d44b4ba1bb41cbb2@ausschreibungsradar.com
DTSTAMP:20260425T143536Z
DTSTART;VALUE=DATE:20240304
DTEND;VALUE=DATE:20240304
SUMMARY:Angebotsfrist — Bereitschaftspolizei und Polizeifachschule Chemnitz\, Neubau 
DESCRIPTION:Phase: Ausschreibung | Beschreibung: Angebote werden eingeholt | Link: https://ausschreibungsradar.com/ausschreibung/8f5039e9-177a-49c2-922d-1e48e429dc5b/
URL:https://ausschreibungsradar.com/ausschreibung/8f5039e9-177a-49c2-922d-1e48e429dc5b/
END:VEVENT
BEGIN:VEVENT
UID:d4db7c9e0b3587ac@ausschreibungsradar.com
DTSTAMP:20260425T143536Z
DTSTART;VALUE=DATE:20240506
DTEND;VALUE=DATE:20240506
SUMMARY:Ausschreibung — Bereitschaftspolizei und Polizeifachschule Chemnitz\, Neubau 
DESCRIPTION:Phase: Ausschreibung | Beschreibung: Offizielle Ausschreibung mit Bieterfrist. | Link: https://ausschreibungsradar.com/ausschreibung/4f463ebc-1967-43e7-b0ca-8645eb5526f0/
URL:https://ausschreibungsradar.com/ausschreibung/4f463ebc-1967-43e7-b0ca-8645eb5526f0/
END:VEVENT
BEGIN:VEVENT
UID:7bc40468d3deeeb6@ausschreibungsradar.com
DTSTAMP:20260425T143536Z
DTSTART;VALUE=DATE:20240605
DTEND;VALUE=DATE:20240605
SUMMARY:Vergabeergebnis — Bereitschaftspolizei und Polizeifachschule Chemnitz\, Neubau 
DESCRIPTION:Phase: Vergabeergebnis | Beschreibung: Auftrag wurde zugeschlagen | Link: https://ausschreibungsradar.com/ausschreibung/dee6a25e-1545-41d9-983d-75da4a71bfc9/
URL:https://ausschreibungsradar.com/ausschreibung/dee6a25e-1545-41d9-983d-75da4a71bfc9/
END:VEVENT
BEGIN:VEVENT
UID:8e223521c1e389bb@ausschreibungsradar.com
DTSTAMP:20260425T143536Z
DTSTART;VALUE=DATE:20240607
DTEND;VALUE=DATE:20240607
SUMMARY:Zuschlag — Bereitschaftspolizei und Polizeifachschule Chemnitz\, Neubau 
DESCRIPTION:Phase: Zuschlag | Beschreibung: Vergabeergebnis — Auftrag wurde erteilt oder Verfahren beendet. | Link: https://ausschreibungsradar.com/ausschreibung/ted-336744-2024/
URL:https://ausschreibungsradar.com/ausschreibung/ted-336744-2024/
END:VEVENT
END:VCALENDAR
