BEGIN:VCALENDAR
VERSION:2.0
PRODID:-//AusschreibungsRadar//Timeline//DE
CALSCALE:GREGORIAN
METHOD:PUBLISH
X-WR-CALNAME:Projekt Neugestaltung der Dockkoogspitze - 1. Bauabschnitt: Neubau B
X-WR-TIMEZONE:Europe/Berlin
BEGIN:VEVENT
UID:7b03d2d05204ca7b@ausschreibungsradar.com
DTSTAMP:20260424T090755Z
DTSTART;VALUE=DATE:20251208
DTEND;VALUE=DATE:20251208
SUMMARY:Angebotsfrist — Neugestaltung der Dockkoogspitze - 1. Bauabschnitt: Neubau B
DESCRIPTION:Phase: Ausschreibung | Beschreibung: Angebote werden eingeholt | Link: https://ausschreibungsradar.com/ausschreibung/df1cdd71-4796-41b9-8a91-ec1e01dde50c/
URL:https://ausschreibungsradar.com/ausschreibung/df1cdd71-4796-41b9-8a91-ec1e01dde50c/
END:VEVENT
BEGIN:VEVENT
UID:06a24cd871033695@ausschreibungsradar.com
DTSTAMP:20260424T090755Z
DTSTART;VALUE=DATE:20260206
DTEND;VALUE=DATE:20260206
SUMMARY:Vergabeergebnis — Neugestaltung der Dockkoogspitze - 1. Bauabschnitt: Neubau B
DESCRIPTION:Phase: Vergabeergebnis | Beschreibung: Auftrag wurde zugeschlagen | Link: https://ausschreibungsradar.com/ausschreibung/56134a4b-b0c6-48e1-8acd-c2699b7a060f/ | Geschätzter Wert: 2160570 €
URL:https://ausschreibungsradar.com/ausschreibung/56134a4b-b0c6-48e1-8acd-c2699b7a060f/
END:VEVENT
END:VCALENDAR
