BEGIN:VCALENDAR
VERSION:2.0
PRODID:-//AusschreibungsRadar//Timeline//DE
CALSCALE:GREGORIAN
METHOD:PUBLISH
X-WR-CALNAME:Projekt RV IT-Experten Nintex Automation K2
X-WR-TIMEZONE:Europe/Berlin
BEGIN:VEVENT
UID:27a4fa46157347f0@ausschreibungsradar.com
DTSTAMP:20260424T073149Z
DTSTART;VALUE=DATE:20251031
DTEND;VALUE=DATE:20251031
SUMMARY:Angebotsfrist — RV IT-Experten Nintex Automation K2
DESCRIPTION:Phase: Ausschreibung | Beschreibung: Angebote werden eingeholt | Link: https://ausschreibungsradar.com/ausschreibung/df44064a-9db7-4a4d-a71d-4ad2c2866e90/
URL:https://ausschreibungsradar.com/ausschreibung/df44064a-9db7-4a4d-a71d-4ad2c2866e90/
END:VEVENT
BEGIN:VEVENT
UID:0a91432150f1149a@ausschreibungsradar.com
DTSTAMP:20260424T073149Z
DTSTART;VALUE=DATE:20251001
DTEND;VALUE=DATE:20251001
SUMMARY:Ausschreibung — RV IT-Experten Nintex Automation K2
DESCRIPTION:Phase: Ausschreibung | Beschreibung: Offizielle Ausschreibung mit Bieterfrist. | Link: https://ausschreibungsradar.com/ausschreibung/ted-641742-2025/
URL:https://ausschreibungsradar.com/ausschreibung/ted-641742-2025/
END:VEVENT
BEGIN:VEVENT
UID:7bf0441578f0c9ad@ausschreibungsradar.com
DTSTAMP:20260424T073149Z
DTSTART;VALUE=DATE:20251209
DTEND;VALUE=DATE:20251209
SUMMARY:Vergabeergebnis — RV IT-Experten Nintex Automation K2
DESCRIPTION:Phase: Vergabeergebnis | Beschreibung: Auftrag wurde zugeschlagen | Link: https://ausschreibungsradar.com/ausschreibung/b85d9d7a-86a3-47aa-8ccc-9c6cdd403add/
URL:https://ausschreibungsradar.com/ausschreibung/b85d9d7a-86a3-47aa-8ccc-9c6cdd403add/
END:VEVENT
END:VCALENDAR
