BEGIN:VCALENDAR
VERSION:2.0
PRODID:-//AusschreibungsRadar//Timeline//DE
CALSCALE:GREGORIAN
METHOD:PUBLISH
X-WR-CALNAME:Projekt 1 Mitarbeiter (m/w/d) in ANÜ –  
Techniker in der Produkt- u
X-WR-TIMEZONE:Europe/Berlin
BEGIN:VEVENT
UID:2780a587c1ad6573@ausschreibungsradar.com
DTSTAMP:20260425T160850Z
DTSTART;VALUE=DATE:20240124
DTEND;VALUE=DATE:20240124
SUMMARY:Ausschreibung — 1 Mitarbeiter (m/w/d) in ANÜ –  \nTechniker in der Produkt- u
DESCRIPTION:Phase: Ausschreibung | Beschreibung: Angebote werden eingeholt | Link: https://ausschreibungsradar.com/ausschreibung/54a71b12-1caf-4ec6-8ee4-ea62cdbf7a8a/
URL:https://ausschreibungsradar.com/ausschreibung/54a71b12-1caf-4ec6-8ee4-ea62cdbf7a8a/
END:VEVENT
BEGIN:VEVENT
UID:2c34099de03835df@ausschreibungsradar.com
DTSTAMP:20260425T160850Z
DTSTART;VALUE=DATE:20240327
DTEND;VALUE=DATE:20240327
SUMMARY:Ausschreibung — 1 Mitarbeiter (m/w/d) in ANÜ –  \nTechniker in der Produkt- u
DESCRIPTION:Phase: Ausschreibung | Beschreibung: Offizielle Ausschreibung mit Bieterfrist. | Link: https://ausschreibungsradar.com/ausschreibung/a5f59701-639e-4229-a54d-335e6bed7e20/
URL:https://ausschreibungsradar.com/ausschreibung/a5f59701-639e-4229-a54d-335e6bed7e20/
END:VEVENT
BEGIN:VEVENT
UID:1a46b33b86963607@ausschreibungsradar.com
DTSTAMP:20260425T160850Z
DTSTART;VALUE=DATE:20240410
DTEND;VALUE=DATE:20240410
SUMMARY:Vergabeergebnis — 1 Mitarbeiter (m/w/d) in ANÜ –  \nTechniker in der Produkt- u
DESCRIPTION:Phase: Vergabeergebnis | Beschreibung: Auftrag wurde zugeschlagen | Link: https://ausschreibungsradar.com/ausschreibung/e00f8e4c-d9d8-4ec7-b9e6-6c81abfd1200/
URL:https://ausschreibungsradar.com/ausschreibung/e00f8e4c-d9d8-4ec7-b9e6-6c81abfd1200/
END:VEVENT
BEGIN:VEVENT
UID:140df98b49eb7104@ausschreibungsradar.com
DTSTAMP:20260425T160850Z
DTSTART;VALUE=DATE:20240423
DTEND;VALUE=DATE:20240423
SUMMARY:Zuschlag — 1 Mitarbeiter (m/w/d) in ANÜ –  \nTechniker in der Produkt- u
DESCRIPTION:Phase: Zuschlag | Beschreibung: Vergabeergebnis — Auftrag wurde erteilt oder Verfahren beendet. | Link: https://ausschreibungsradar.com/ausschreibung/d446917b-c99e-4788-b610-6797e28f9d0e/
URL:https://ausschreibungsradar.com/ausschreibung/d446917b-c99e-4788-b610-6797e28f9d0e/
END:VEVENT
END:VCALENDAR
