BEGIN:VCALENDAR
VERSION:2.0
PRODID:-//AusschreibungsRadar//Timeline//DE
CALSCALE:GREGORIAN
METHOD:PUBLISH
X-WR-CALNAME:Projekt Neubau Bildungscampus Großrinderfeld - Bodenbelagsarbeiten
X-WR-TIMEZONE:Europe/Berlin
BEGIN:VEVENT
UID:197004b404585b64@ausschreibungsradar.com
DTSTAMP:20260426T030157Z
DTSTART;VALUE=DATE:20260109
DTEND;VALUE=DATE:20260109
SUMMARY:Zuschlag — Neubau Bildungscampus Großrinderfeld - Bodenbelagsarbeiten
DESCRIPTION:Phase: Zuschlag | Beschreibung: Vergabeergebnis — Auftrag wurde erteilt oder Verfahren beendet. | Link: https://ausschreibungsradar.com/ausschreibung/2764a9ad-94a0-4d60-8be7-4f4d96e5f58c/
URL:https://ausschreibungsradar.com/ausschreibung/2764a9ad-94a0-4d60-8be7-4f4d96e5f58c/
END:VEVENT
BEGIN:VEVENT
UID:7a58301b72414d23@ausschreibungsradar.com
DTSTAMP:20260426T030157Z
DTSTART;VALUE=DATE:20260224
DTEND;VALUE=DATE:20260224
SUMMARY:Angebotsfrist — Neubau Bildungscampus Großrinderfeld - Bodenbelagsarbeiten
DESCRIPTION:Phase: Ausschreibung | Beschreibung: Angebote werden eingeholt | Link: https://ausschreibungsradar.com/ausschreibung/e0732bd9-9b85-493f-9713-5465f2d1e66c/
URL:https://ausschreibungsradar.com/ausschreibung/e0732bd9-9b85-493f-9713-5465f2d1e66c/
END:VEVENT
BEGIN:VEVENT
UID:804df1ad93158a71@ausschreibungsradar.com
DTSTAMP:20260426T030157Z
DTSTART;VALUE=DATE:20260123
DTEND;VALUE=DATE:20260123
SUMMARY:Ausschreibung — Neubau Bildungscampus Großrinderfeld - Bodenbelagsarbeiten
DESCRIPTION:Phase: Ausschreibung | Beschreibung: Offizielle Ausschreibung mit Bieterfrist. | Link: https://ausschreibungsradar.com/ausschreibung/a851e747-e97d-4fc3-8671-ee0321735fe9/
URL:https://ausschreibungsradar.com/ausschreibung/a851e747-e97d-4fc3-8671-ee0321735fe9/
END:VEVENT
END:VCALENDAR
