BEGIN:VCALENDAR
VERSION:2.0
PRODID:-//AusschreibungsRadar//Timeline//DE
CALSCALE:GREGORIAN
METHOD:PUBLISH
X-WR-CALNAME:Projekt 24-01 GSA - Erweiterung und Sanierung der Grundschule Abensb
X-WR-TIMEZONE:Europe/Berlin
BEGIN:VEVENT
UID:13593f39d87d86ff@ausschreibungsradar.com
DTSTAMP:20260424T163745Z
DTSTART;VALUE=DATE:20250305
DTEND;VALUE=DATE:20250305
SUMMARY:Angebotsfrist — 24-01 GSA - Erweiterung und Sanierung der Grundschule Abensb
DESCRIPTION:Phase: Ausschreibung | Beschreibung: Angebote werden eingeholt | Link: https://ausschreibungsradar.com/ausschreibung/e0837734-a8a2-4513-8f2d-8d133efb081c/
URL:https://ausschreibungsradar.com/ausschreibung/e0837734-a8a2-4513-8f2d-8d133efb081c/
END:VEVENT
BEGIN:VEVENT
UID:77f415d44f0c74e0@ausschreibungsradar.com
DTSTAMP:20260424T163745Z
DTSTART;VALUE=DATE:20250211
DTEND;VALUE=DATE:20250211
SUMMARY:Ausschreibung — 24-01 GSA - Erweiterung und Sanierung der Grundschule Abensb
DESCRIPTION:Phase: Ausschreibung | Beschreibung: Offizielle Ausschreibung mit Bieterfrist. | Link: https://ausschreibungsradar.com/ausschreibung/561fd5a7-f231-42b1-8e15-efc3ab698edb/
URL:https://ausschreibungsradar.com/ausschreibung/561fd5a7-f231-42b1-8e15-efc3ab698edb/
END:VEVENT
BEGIN:VEVENT
UID:0096f1662050715a@ausschreibungsradar.com
DTSTAMP:20260424T163745Z
DTSTART;VALUE=DATE:20250211
DTEND;VALUE=DATE:20250211
SUMMARY:Ausschreibung — 24-01 GSA - Erweiterung und Sanierung der Grundschule Abensb
DESCRIPTION:Phase: Ausschreibung | Beschreibung: Offizielle Ausschreibung mit Bieterfrist. | Link: https://ausschreibungsradar.com/ausschreibung/adee513b-0d09-415c-91b8-0b601778dd7e/
URL:https://ausschreibungsradar.com/ausschreibung/adee513b-0d09-415c-91b8-0b601778dd7e/
END:VEVENT
BEGIN:VEVENT
UID:e9c58b5022727e6a@ausschreibungsradar.com
DTSTAMP:20260424T163745Z
DTSTART;VALUE=DATE:20250211
DTEND;VALUE=DATE:20250211
SUMMARY:Ausschreibung — 24-01 GSA - Erweiterung und Sanierung der Grundschule Abensb
DESCRIPTION:Phase: Ausschreibung | Beschreibung: Offizielle Ausschreibung mit Bieterfrist. | Link: https://ausschreibungsradar.com/ausschreibung/432363b6-df1f-42bd-9910-88721a481abb/
URL:https://ausschreibungsradar.com/ausschreibung/432363b6-df1f-42bd-9910-88721a481abb/
END:VEVENT
BEGIN:VEVENT
UID:6d75f462cc2cdbef@ausschreibungsradar.com
DTSTAMP:20260424T163745Z
DTSTART;VALUE=DATE:20250509
DTEND;VALUE=DATE:20250509
SUMMARY:Vergabeergebnis — 24-01 GSA - Erweiterung und Sanierung der Grundschule Abensb
DESCRIPTION:Phase: Vergabeergebnis | Beschreibung: Auftrag wurde zugeschlagen | Link: https://ausschreibungsradar.com/ausschreibung/9d593dcd-6034-4827-b474-ced7956a40b5/
URL:https://ausschreibungsradar.com/ausschreibung/9d593dcd-6034-4827-b474-ced7956a40b5/
END:VEVENT
END:VCALENDAR
