BEGIN:VCALENDAR
VERSION:2.0
PRODID:-//AusschreibungsRadar//Timeline//DE
CALSCALE:GREGORIAN
METHOD:PUBLISH
X-WR-CALNAME:Projekt Planung und Bau einer Spielpergola
X-WR-TIMEZONE:Europe/Berlin
BEGIN:VEVENT
UID:5e0a7cdf8320817a@ausschreibungsradar.com
DTSTAMP:20260424T073145Z
DTSTART;VALUE=DATE:20241106
DTEND;VALUE=DATE:20241106
SUMMARY:Angebotsfrist — Planung und Bau einer Spielpergola
DESCRIPTION:Phase: Ausschreibung | Beschreibung: Angebote werden eingeholt | Link: https://ausschreibungsradar.com/ausschreibung/e0e87a07-d352-4dc2-8f99-55810d2c077c/
URL:https://ausschreibungsradar.com/ausschreibung/e0e87a07-d352-4dc2-8f99-55810d2c077c/
END:VEVENT
BEGIN:VEVENT
UID:668e27474d2025a9@ausschreibungsradar.com
DTSTAMP:20260424T073145Z
DTSTART;VALUE=DATE:20240822
DTEND;VALUE=DATE:20240822
SUMMARY:Ausschreibung — Planung und Bau einer Spielpergola
DESCRIPTION:Phase: Ausschreibung | Beschreibung: Offizielle Ausschreibung mit Bieterfrist. | Link: https://ausschreibungsradar.com/ausschreibung/adbe0506-c8a5-4ae1-8988-249c4e00239f/
URL:https://ausschreibungsradar.com/ausschreibung/adbe0506-c8a5-4ae1-8988-249c4e00239f/
END:VEVENT
BEGIN:VEVENT
UID:673c9976df92b400@ausschreibungsradar.com
DTSTAMP:20260424T073145Z
DTSTART;VALUE=DATE:20240822
DTEND;VALUE=DATE:20240822
SUMMARY:Ausschreibung — Planung und Bau einer Spielpergola
DESCRIPTION:Phase: Ausschreibung | Beschreibung: Offizielle Ausschreibung mit Bieterfrist. | Link: https://ausschreibungsradar.com/ausschreibung/f4911c3c-f8fe-401f-bf59-c9da65db92ce/
URL:https://ausschreibungsradar.com/ausschreibung/f4911c3c-f8fe-401f-bf59-c9da65db92ce/
END:VEVENT
BEGIN:VEVENT
UID:f8065b58ae56fc93@ausschreibungsradar.com
DTSTAMP:20260424T073145Z
DTSTART;VALUE=DATE:20241223
DTEND;VALUE=DATE:20241223
SUMMARY:Vergabeergebnis — Planung und Bau einer Spielpergola
DESCRIPTION:Phase: Vergabeergebnis | Beschreibung: Sonstige Gründe | Link: https://ausschreibungsradar.com/ausschreibung/fc3c6500-32cb-48dd-a83d-78ab37f639ea/
URL:https://ausschreibungsradar.com/ausschreibung/fc3c6500-32cb-48dd-a83d-78ab37f639ea/
END:VEVENT
END:VCALENDAR
