BEGIN:VCALENDAR
VERSION:2.0
PRODID:-//AusschreibungsRadar//Timeline//DE
CALSCALE:GREGORIAN
METHOD:PUBLISH
X-WR-CALNAME:Projekt Landkreis Leer, Gebäudemanagement, Energielieferung Erdgas 2
X-WR-TIMEZONE:Europe/Berlin
BEGIN:VEVENT
UID:88d5484682cb80ff@ausschreibungsradar.com
DTSTAMP:20260424T011647Z
DTSTART;VALUE=DATE:20250912
DTEND;VALUE=DATE:20250912
SUMMARY:Angebotsfrist — Landkreis Leer\, Gebäudemanagement\, Energielieferung Erdgas 2
DESCRIPTION:Phase: Ausschreibung | Beschreibung: Angebote werden eingeholt | Link: https://ausschreibungsradar.com/ausschreibung/e1334b5a-9ce3-4ea6-8c7c-1b923062d01e/
URL:https://ausschreibungsradar.com/ausschreibung/e1334b5a-9ce3-4ea6-8c7c-1b923062d01e/
END:VEVENT
END:VCALENDAR
