BEGIN:VCALENDAR
VERSION:2.0
PRODID:-//AusschreibungsRadar//Timeline//DE
CALSCALE:GREGORIAN
METHOD:PUBLISH
X-WR-CALNAME:Projekt Ermittlung der Grundstücks- und Geschossflächen
X-WR-TIMEZONE:Europe/Berlin
BEGIN:VEVENT
UID:244ddeaed9986505@ausschreibungsradar.com
DTSTAMP:20260425T031216Z
DTSTART;VALUE=DATE:20251216
DTEND;VALUE=DATE:20251216
SUMMARY:Zuschlag — Ermittlung der Grundstücks- und Geschossflächen
DESCRIPTION:Phase: Zuschlag | Beschreibung: Vergabeergebnis — Auftrag wurde erteilt oder Verfahren beendet. | Link: https://ausschreibungsradar.com/ausschreibung/40b619a6-99bc-4527-a99b-cc151fe6415c/
URL:https://ausschreibungsradar.com/ausschreibung/40b619a6-99bc-4527-a99b-cc151fe6415c/
END:VEVENT
BEGIN:VEVENT
UID:eb83556763a6568f@ausschreibungsradar.com
DTSTAMP:20260425T031216Z
DTSTART;VALUE=DATE:20260204
DTEND;VALUE=DATE:20260204
SUMMARY:Angebotsfrist — Ermittlung der Grundstücks- und Geschossflächen
DESCRIPTION:Phase: Ausschreibung | Beschreibung: Angebote werden eingeholt | Link: https://ausschreibungsradar.com/ausschreibung/e13f2bff-b622-4a0d-8677-cc8887c9ffdb/
URL:https://ausschreibungsradar.com/ausschreibung/e13f2bff-b622-4a0d-8677-cc8887c9ffdb/
END:VEVENT
BEGIN:VEVENT
UID:439a734ced435b48@ausschreibungsradar.com
DTSTAMP:20260425T031216Z
DTSTART;VALUE=DATE:20260415
DTEND;VALUE=DATE:20260415
SUMMARY:Vergabeergebnis — Ermittlung der Grundstücks- und Geschossflächen
DESCRIPTION:Phase: Vergabeergebnis | Beschreibung: Auftrag wurde zugeschlagen | Link: https://ausschreibungsradar.com/ausschreibung/cf253850-b426-4551-b8d8-b6601d7688d8/
URL:https://ausschreibungsradar.com/ausschreibung/cf253850-b426-4551-b8d8-b6601d7688d8/
END:VEVENT
END:VCALENDAR
