BEGIN:VCALENDAR
VERSION:2.0
PRODID:-//AusschreibungsRadar//Timeline//DE
CALSCALE:GREGORIAN
METHOD:PUBLISH
X-WR-CALNAME:Projekt Neubau Kinderhaus Reichenbach - Planerauswahlverfahren Fachp
X-WR-TIMEZONE:Europe/Berlin
BEGIN:VEVENT
UID:a19b8a32a71b4f1f@ausschreibungsradar.com
DTSTAMP:20260425T042135Z
DTSTART;VALUE=DATE:20240319
DTEND;VALUE=DATE:20240319
SUMMARY:Ausschreibung — Neubau Kinderhaus Reichenbach - Planerauswahlverfahren Fachp
DESCRIPTION:Phase: Ausschreibung | Beschreibung: Angebote werden eingeholt | Link: https://ausschreibungsradar.com/ausschreibung/e224ebfb-d4e8-4e40-ad94-b8ec37a11195/
URL:https://ausschreibungsradar.com/ausschreibung/e224ebfb-d4e8-4e40-ad94-b8ec37a11195/
END:VEVENT
BEGIN:VEVENT
UID:4299d448f0dd675f@ausschreibungsradar.com
DTSTAMP:20260425T042135Z
DTSTART;VALUE=DATE:20240319
DTEND;VALUE=DATE:20240319
SUMMARY:Ausschreibung — Neubau Kinderhaus Reichenbach - Planerauswahlverfahren Fachp
DESCRIPTION:Phase: Ausschreibung | Beschreibung: Offizielle Ausschreibung mit Bieterfrist. | Link: https://ausschreibungsradar.com/ausschreibung/f4c3e8eb-9132-4fd1-80ef-0faf9a7c05c5/
URL:https://ausschreibungsradar.com/ausschreibung/f4c3e8eb-9132-4fd1-80ef-0faf9a7c05c5/
END:VEVENT
BEGIN:VEVENT
UID:67d0137802acf67a@ausschreibungsradar.com
DTSTAMP:20260425T042135Z
DTSTART;VALUE=DATE:20240904
DTEND;VALUE=DATE:20240904
SUMMARY:Vergabeergebnis — Neubau Kinderhaus Reichenbach - Planerauswahlverfahren Fachp
DESCRIPTION:Phase: Vergabeergebnis | Beschreibung: Auftrag wurde zugeschlagen | Link: https://ausschreibungsradar.com/ausschreibung/a4fb3182-5242-4137-acbf-37ce7fa63b7d/
URL:https://ausschreibungsradar.com/ausschreibung/a4fb3182-5242-4137-acbf-37ce7fa63b7d/
END:VEVENT
END:VCALENDAR
