BEGIN:VCALENDAR
VERSION:2.0
PRODID:-//AusschreibungsRadar//Timeline//DE
CALSCALE:GREGORIAN
METHOD:PUBLISH
X-WR-CALNAME:Projekt Abbruch und Entsorgungsarbeiten, BA III
X-WR-TIMEZONE:Europe/Berlin
BEGIN:VEVENT
UID:a19c6a843ddf507b@ausschreibungsradar.com
DTSTAMP:20260425T023938Z
DTSTART;VALUE=DATE:20250227
DTEND;VALUE=DATE:20250227
SUMMARY:Angebotsfrist — Abbruch und Entsorgungsarbeiten\, BA III
DESCRIPTION:Phase: Ausschreibung | Beschreibung: Angebote werden eingeholt | Link: https://ausschreibungsradar.com/ausschreibung/e3b30689-98a9-445e-b4be-7f59d8238c6d/
URL:https://ausschreibungsradar.com/ausschreibung/e3b30689-98a9-445e-b4be-7f59d8238c6d/
END:VEVENT
END:VCALENDAR
