BEGIN:VCALENDAR
VERSION:2.0
PRODID:-//AusschreibungsRadar//Timeline//DE
CALSCALE:GREGORIAN
METHOD:PUBLISH
X-WR-CALNAME:Projekt Wartung von Laborzentrifugen
X-WR-TIMEZONE:Europe/Berlin
BEGIN:VEVENT
UID:d6e70f70be76a64e@ausschreibungsradar.com
DTSTAMP:20260425T220927Z
DTSTART;VALUE=DATE:20260220
DTEND;VALUE=DATE:20260220
SUMMARY:Ausschreibung — Wartung von Laborzentrifugen
DESCRIPTION:Phase: Ausschreibung | Beschreibung: Angebote werden eingeholt | Link: https://ausschreibungsradar.com/ausschreibung/e454230a-8b94-4c75-b3e1-ac3e7bd7fbc5/
URL:https://ausschreibungsradar.com/ausschreibung/e454230a-8b94-4c75-b3e1-ac3e7bd7fbc5/
END:VEVENT
BEGIN:VEVENT
UID:b8d448580af76327@ausschreibungsradar.com
DTSTAMP:20260425T220927Z
DTSTART;VALUE=DATE:20260220
DTEND;VALUE=DATE:20260220
SUMMARY:Änderung — Wartung von Laborzentrifugen
DESCRIPTION:Phase: Änderung | Beschreibung: Ausschreibung wurde angepasst | Link: https://ausschreibungsradar.com/ausschreibung/e454230a-8b94-4c75-b3e1-ac3e7bd7fbc5/
URL:https://ausschreibungsradar.com/ausschreibung/e454230a-8b94-4c75-b3e1-ac3e7bd7fbc5/
END:VEVENT
END:VCALENDAR
