BEGIN:VCALENDAR
VERSION:2.0
PRODID:-//AusschreibungsRadar//Timeline//DE
CALSCALE:GREGORIAN
METHOD:PUBLISH
X-WR-CALNAME:Projekt Befristete Überlassung von Adobe Acrobat Standard- und Adobe
X-WR-TIMEZONE:Europe/Berlin
BEGIN:VEVENT
UID:d3aea0978241a5a0@ausschreibungsradar.com
DTSTAMP:20260425T144507Z
DTSTART;VALUE=DATE:20251209
DTEND;VALUE=DATE:20251209
SUMMARY:Angebotsfrist — Befristete Überlassung von Adobe Acrobat Standard- und Adobe
DESCRIPTION:Phase: Ausschreibung | Beschreibung: Angebote werden eingeholt | Link: https://ausschreibungsradar.com/ausschreibung/4e6268c8-dbe4-494b-b6ec-8414b63ca942/
URL:https://ausschreibungsradar.com/ausschreibung/4e6268c8-dbe4-494b-b6ec-8414b63ca942/
END:VEVENT
BEGIN:VEVENT
UID:f237649cac36565e@ausschreibungsradar.com
DTSTAMP:20260425T144507Z
DTSTART;VALUE=DATE:20260213
DTEND;VALUE=DATE:20260213
SUMMARY:Vergabeergebnis — Befristete Überlassung von Adobe Acrobat Standard- und Adobe
DESCRIPTION:Phase: Vergabeergebnis | Beschreibung: Auftrag wurde zugeschlagen | Link: https://ausschreibungsradar.com/ausschreibung/e4734662-3e64-4962-8ff0-256fd7c36e80/
URL:https://ausschreibungsradar.com/ausschreibung/e4734662-3e64-4962-8ff0-256fd7c36e80/
END:VEVENT
END:VCALENDAR
