BEGIN:VCALENDAR
VERSION:2.0
PRODID:-//AusschreibungsRadar//Timeline//DE
CALSCALE:GREGORIAN
METHOD:PUBLISH
X-WR-CALNAME:Projekt Neubau eines Pflegeheims auf dem Gelände des Klinikums Nords
X-WR-TIMEZONE:Europe/Berlin
BEGIN:VEVENT
UID:0fe727aac3a04926@ausschreibungsradar.com
DTSTAMP:20260426T002827Z
DTSTART;VALUE=DATE:20241206
DTEND;VALUE=DATE:20241206
SUMMARY:Angebotsfrist — Neubau eines Pflegeheims auf dem Gelände des Klinikums Nords
DESCRIPTION:Phase: Ausschreibung | Beschreibung: Angebote werden eingeholt | Link: https://ausschreibungsradar.com/ausschreibung/e49e49fc-bbb8-47f7-9c88-2cb94cb29b7f/
URL:https://ausschreibungsradar.com/ausschreibung/e49e49fc-bbb8-47f7-9c88-2cb94cb29b7f/
END:VEVENT
BEGIN:VEVENT
UID:b3f79e853b3a8e55@ausschreibungsradar.com
DTSTAMP:20260426T002827Z
DTSTART;VALUE=DATE:20250203
DTEND;VALUE=DATE:20250203
SUMMARY:Vergabeergebnis — Neubau eines Pflegeheims auf dem Gelände des Klinikums Nords
DESCRIPTION:Phase: Vergabeergebnis | Beschreibung: Auftrag wurde zugeschlagen | Link: https://ausschreibungsradar.com/ausschreibung/018b4827-e14c-4000-91ec-99a6e010bd6b/
URL:https://ausschreibungsradar.com/ausschreibung/018b4827-e14c-4000-91ec-99a6e010bd6b/
END:VEVENT
END:VCALENDAR
