BEGIN:VCALENDAR
VERSION:2.0
PRODID:-//AusschreibungsRadar//Timeline//DE
CALSCALE:GREGORIAN
METHOD:PUBLISH
X-WR-CALNAME:Projekt Neubau einer Einfachturnhalle mit Freisportanlagen an der Gr
X-WR-TIMEZONE:Europe/Berlin
BEGIN:VEVENT
UID:0337857c7bdca6e4@ausschreibungsradar.com
DTSTAMP:20260426T004421Z
DTSTART;VALUE=DATE:20250507
DTEND;VALUE=DATE:20250507
SUMMARY:Angebotsfrist — Neubau einer Einfachturnhalle mit Freisportanlagen an der Gr
DESCRIPTION:Phase: Ausschreibung | Beschreibung: Angebote werden eingeholt | Link: https://ausschreibungsradar.com/ausschreibung/e4c83c34-3d7d-4ba4-b065-c3e280dc4ce4/
URL:https://ausschreibungsradar.com/ausschreibung/e4c83c34-3d7d-4ba4-b065-c3e280dc4ce4/
END:VEVENT
BEGIN:VEVENT
UID:fef2d52a5cdcc584@ausschreibungsradar.com
DTSTAMP:20260426T004421Z
DTSTART;VALUE=DATE:20250416
DTEND;VALUE=DATE:20250416
SUMMARY:Ausschreibung — Neubau einer Einfachturnhalle mit Freisportanlagen an der Gr
DESCRIPTION:Phase: Ausschreibung | Beschreibung: Offizielle Ausschreibung mit Bieterfrist. | Link: https://ausschreibungsradar.com/ausschreibung/ebba5d6b-9314-4cbf-9a94-98cec9858875/
URL:https://ausschreibungsradar.com/ausschreibung/ebba5d6b-9314-4cbf-9a94-98cec9858875/
END:VEVENT
END:VCALENDAR
