BEGIN:VCALENDAR
VERSION:2.0
PRODID:-//AusschreibungsRadar//Timeline//DE
CALSCALE:GREGORIAN
METHOD:PUBLISH
X-WR-CALNAME:Projekt Kanalreinigung und TV-Inspektion im AZV-Verbandsgebiet
X-WR-TIMEZONE:Europe/Berlin
BEGIN:VEVENT
UID:ef0472a247d5e312@ausschreibungsradar.com
DTSTAMP:20260424T155450Z
DTSTART;VALUE=DATE:20241010
DTEND;VALUE=DATE:20241010
SUMMARY:Angebotsfrist — Kanalreinigung und TV-Inspektion im AZV-Verbandsgebiet
DESCRIPTION:Phase: Ausschreibung | Beschreibung: Angebote werden eingeholt | Link: https://ausschreibungsradar.com/ausschreibung/1888ec52-0c1a-4ba3-9396-0d2631d7186c/
URL:https://ausschreibungsradar.com/ausschreibung/1888ec52-0c1a-4ba3-9396-0d2631d7186c/
END:VEVENT
BEGIN:VEVENT
UID:b5e94dba0481c4a4@ausschreibungsradar.com
DTSTAMP:20260424T155450Z
DTSTART;VALUE=DATE:20241107
DTEND;VALUE=DATE:20241107
SUMMARY:Vergabeergebnis — Kanalreinigung und TV-Inspektion im AZV-Verbandsgebiet
DESCRIPTION:Phase: Vergabeergebnis | Beschreibung: Auftrag wurde zugeschlagen | Link: https://ausschreibungsradar.com/ausschreibung/e4cfe6b3-1695-447e-9511-695ecebd19a9/
URL:https://ausschreibungsradar.com/ausschreibung/e4cfe6b3-1695-447e-9511-695ecebd19a9/
END:VEVENT
END:VCALENDAR
