BEGIN:VCALENDAR
VERSION:2.0
PRODID:-//AusschreibungsRadar//Timeline//DE
CALSCALE:GREGORIAN
METHOD:PUBLISH
X-WR-CALNAME:Projekt Umbau zur Kindertagesstätte Theley
X-WR-TIMEZONE:Europe/Berlin
BEGIN:VEVENT
UID:4b08af7e97538578@ausschreibungsradar.com
DTSTAMP:20260426T024005Z
DTSTART;VALUE=DATE:20240803
DTEND;VALUE=DATE:20240803
SUMMARY:Ausschreibung — Umbau zur Kindertagesstätte Theley
DESCRIPTION:Phase: Ausschreibung | Beschreibung: Angebote werden eingeholt | Link: https://ausschreibungsradar.com/ausschreibung/1f658a5a-93a8-4446-923d-1b4c18464b39/
URL:https://ausschreibungsradar.com/ausschreibung/1f658a5a-93a8-4446-923d-1b4c18464b39/
END:VEVENT
BEGIN:VEVENT
UID:d122ef2da767b3c3@ausschreibungsradar.com
DTSTAMP:20260426T024005Z
DTSTART;VALUE=DATE:20250118
DTEND;VALUE=DATE:20250118
SUMMARY:Zuschlag — Umbau zur Kindertagesstätte Theley
DESCRIPTION:Phase: Zuschlag | Beschreibung: Vergabeergebnis — Auftrag wurde erteilt oder Verfahren beendet. | Link: https://ausschreibungsradar.com/ausschreibung/894f3ca1-5114-477d-a2c7-3c416acc5590/
URL:https://ausschreibungsradar.com/ausschreibung/894f3ca1-5114-477d-a2c7-3c416acc5590/
END:VEVENT
BEGIN:VEVENT
UID:3abaa56cce3c3c5a@ausschreibungsradar.com
DTSTAMP:20260426T024005Z
DTSTART;VALUE=DATE:20250118
DTEND;VALUE=DATE:20250118
SUMMARY:Zuschlag — Umbau zur Kindertagesstätte Theley
DESCRIPTION:Phase: Zuschlag | Beschreibung: Vergabeergebnis — Auftrag wurde erteilt oder Verfahren beendet. | Link: https://ausschreibungsradar.com/ausschreibung/d12e37ae-465f-4f94-8351-6f192677caf4/
URL:https://ausschreibungsradar.com/ausschreibung/d12e37ae-465f-4f94-8351-6f192677caf4/
END:VEVENT
BEGIN:VEVENT
UID:3c97e2dbc795ea5f@ausschreibungsradar.com
DTSTAMP:20260426T024005Z
DTSTART;VALUE=DATE:20250123
DTEND;VALUE=DATE:20250123
SUMMARY:Zuschlag — Umbau zur Kindertagesstätte Theley
DESCRIPTION:Phase: Zuschlag | Beschreibung: Vergabeergebnis — Auftrag wurde erteilt oder Verfahren beendet. | Link: https://ausschreibungsradar.com/ausschreibung/10a4d4e1-5b9d-41a2-898f-7587fc1f2902/
URL:https://ausschreibungsradar.com/ausschreibung/10a4d4e1-5b9d-41a2-898f-7587fc1f2902/
END:VEVENT
BEGIN:VEVENT
UID:d1bfc559c48a15c9@ausschreibungsradar.com
DTSTAMP:20260426T024005Z
DTSTART;VALUE=DATE:20250322
DTEND;VALUE=DATE:20250322
SUMMARY:Zuschlag — Umbau zur Kindertagesstätte Theley
DESCRIPTION:Phase: Zuschlag | Beschreibung: Vergabeergebnis — Auftrag wurde erteilt oder Verfahren beendet. | Link: https://ausschreibungsradar.com/ausschreibung/878f1591-0a6e-4433-a33e-a1f05b99f5db/
URL:https://ausschreibungsradar.com/ausschreibung/878f1591-0a6e-4433-a33e-a1f05b99f5db/
END:VEVENT
BEGIN:VEVENT
UID:c38a6c7991cab17f@ausschreibungsradar.com
DTSTAMP:20260426T024005Z
DTSTART;VALUE=DATE:20250323
DTEND;VALUE=DATE:20250323
SUMMARY:Vergabeergebnis — Umbau zur Kindertagesstätte Theley
DESCRIPTION:Phase: Vergabeergebnis | Beschreibung: Auftrag wurde zugeschlagen | Link: https://ausschreibungsradar.com/ausschreibung/e4e81d8b-d04d-4ab6-931a-2215a4c56773/
URL:https://ausschreibungsradar.com/ausschreibung/e4e81d8b-d04d-4ab6-931a-2215a4c56773/
END:VEVENT
BEGIN:VEVENT
UID:b71969e387e57070@ausschreibungsradar.com
DTSTAMP:20260426T024005Z
DTSTART;VALUE=DATE:20250323
DTEND;VALUE=DATE:20250323
SUMMARY:Zuschlag — Umbau zur Kindertagesstätte Theley
DESCRIPTION:Phase: Zuschlag | Beschreibung: Vergabeergebnis — Auftrag wurde erteilt oder Verfahren beendet. | Link: https://ausschreibungsradar.com/ausschreibung/ecee0998-0945-49ce-aac4-f2e7fc2b4c40/
URL:https://ausschreibungsradar.com/ausschreibung/ecee0998-0945-49ce-aac4-f2e7fc2b4c40/
END:VEVENT
END:VCALENDAR
