BEGIN:VCALENDAR
VERSION:2.0
PRODID:-//AusschreibungsRadar//Timeline//DE
CALSCALE:GREGORIAN
METHOD:PUBLISH
X-WR-CALNAME:Projekt Bundesrechnungshof in Bonn - Raumlufttechnische Anlagen (109
X-WR-TIMEZONE:Europe/Berlin
BEGIN:VEVENT
UID:1e0db931efae31cf@ausschreibungsradar.com
DTSTAMP:20260425T023913Z
DTSTART;VALUE=DATE:20260420
DTEND;VALUE=DATE:20260420
SUMMARY:Vorinformation — Bundesrechnungshof in Bonn - Raumlufttechnische Anlagen (109
DESCRIPTION:Phase: Vorinformation | Beschreibung: Vorab-Ankündigung der Vergabestelle — keine verbindliche Ausschreibung. | Link: https://ausschreibungsradar.com/ausschreibung/e4ed6e76-7f49-4ff9-803a-70f931f7f193
URL:https://ausschreibungsradar.com/ausschreibung/e4ed6e76-7f49-4ff9-803a-70f931f7f193/
END:VEVENT
BEGIN:VEVENT
UID:5fd061098d33660a@ausschreibungsradar.com
DTSTAMP:20260425T023913Z
DTSTART;VALUE=DATE:20260420
DTEND;VALUE=DATE:20260420
SUMMARY:Ausschreibung — Bundesrechnungshof in Bonn - Raumlufttechnische Anlagen (109
DESCRIPTION:Phase: Ausschreibung | Beschreibung: Offizielle Ausschreibung mit Bieterfrist. | Link: https://ausschreibungsradar.com/ausschreibung/bund-549f166e8e71fa6f/
URL:https://ausschreibungsradar.com/ausschreibung/bund-549f166e8e71fa6f/
END:VEVENT
END:VCALENDAR
