BEGIN:VCALENDAR
VERSION:2.0
PRODID:-//AusschreibungsRadar//Timeline//DE
CALSCALE:GREGORIAN
METHOD:PUBLISH
X-WR-CALNAME:Projekt RV Transport von Scannerboxen zwischen den FÄ und der Scanne
X-WR-TIMEZONE:Europe/Berlin
BEGIN:VEVENT
UID:670d9ac9b59d39ec@ausschreibungsradar.com
DTSTAMP:20260425T015800Z
DTSTART;VALUE=DATE:20250721
DTEND;VALUE=DATE:20250721
SUMMARY:Angebotsfrist — RV Transport von Scannerboxen zwischen den FÄ und der Scanne
DESCRIPTION:Phase: Ausschreibung | Beschreibung: Angebote werden eingeholt | Link: https://ausschreibungsradar.com/ausschreibung/e53f8286-8e42-44dd-9f9c-6c6a2736d2c7/
URL:https://ausschreibungsradar.com/ausschreibung/e53f8286-8e42-44dd-9f9c-6c6a2736d2c7/
END:VEVENT
END:VCALENDAR
